BEGIN:VCALENDAR
VERSION:2.0
PRODID:-//ProWoc⎮Professional Women of Colour Network⎮Denmark - ECPv6.15.20//NONSGML v1.0//EN
CALSCALE:GREGORIAN
METHOD:PUBLISH
X-WR-CALNAME:ProWoc⎮Professional Women of Colour Network⎮Denmark
X-ORIGINAL-URL:https://prowoc.org
X-WR-CALDESC:Events for ProWoc⎮Professional Women of Colour Network⎮Denmark
REFRESH-INTERVAL;VALUE=DURATION:PT1H
X-Robots-Tag:noindex
X-PUBLISHED-TTL:PT1H
BEGIN:VTIMEZONE
TZID:Europe/Copenhagen
BEGIN:DAYLIGHT
TZOFFSETFROM:+0100
TZOFFSETTO:+0200
TZNAME:CEST
DTSTART:20240331T010000
END:DAYLIGHT
BEGIN:STANDARD
TZOFFSETFROM:+0200
TZOFFSETTO:+0100
TZNAME:CET
DTSTART:20241027T010000
END:STANDARD
BEGIN:DAYLIGHT
TZOFFSETFROM:+0100
TZOFFSETTO:+0200
TZNAME:CEST
DTSTART:20250330T010000
END:DAYLIGHT
BEGIN:STANDARD
TZOFFSETFROM:+0200
TZOFFSETTO:+0100
TZNAME:CET
DTSTART:20251026T010000
END:STANDARD
BEGIN:DAYLIGHT
TZOFFSETFROM:+0100
TZOFFSETTO:+0200
TZNAME:CEST
DTSTART:20260329T010000
END:DAYLIGHT
BEGIN:STANDARD
TZOFFSETFROM:+0200
TZOFFSETTO:+0100
TZNAME:CET
DTSTART:20261025T010000
END:STANDARD
END:VTIMEZONE
BEGIN:VEVENT
DTSTART;TZID=Europe/Copenhagen:20251120T170000
DTEND;TZID=Europe/Copenhagen:20251120T200000
DTSTAMP:20260425T180537
CREATED:20251004T165711Z
LAST-MODIFIED:20251104T085618Z
UID:26625-1763658000-1763668800@prowoc.org
SUMMARY:Exclusive Conversation with Samantha Adeluwoye
DESCRIPTION:Leading with Fuel\, Not Fire\nWhat does it take to build a career that lasts? For many early- and mid-career professionals\, the pressure is constant: move faster\, reach the next title\, achieve more. But too much focus on short-term wins can leave us depleted — and unprepared for the challenges ahead. \nThat’s why sustainable career growth requires a different approach.\nIt is about building depth and breadth in your skills\, routines\, and mindset.\nIt is about staying energized for growth over the long term.\nAnd it is about defining success beyond quick wins. \n✨This is why we are excited to welcome Samantha Almon Adeluwoye\, Global Director of Content and Social Media at Maersk\, as our guest speaker. Samantha’s career journey reflects exactly what it means to lead with fuel\, not fire. She began behind the camera\, capturing iconic musicians\, and went on to earn a Promax Award at the BBC before moving into global leadership. At Maersk\, she has transformed the company’s digital presence to reach over six million followers\, while earning recognition as one of the industry’s most influential social media leaders. \n🏆Her path shows that lasting impact comes from building steadily over time — blending creativity with strategy\, commerce with culture\, and vision with discipline. Samantha’s story is proof that careers are sustained not by burning out\, but by cultivating the energy and perspective to grow for the long term. \n🗓️ Date: November 20th\, 2025\n🕔 Time: 17:00 – 20:00\n📍Location: Villa Copenhagen \nPrice: 150 kr for members\, 250 kr for non members\, 200 kr BPoC members\, 100 kr Hybrid \nEvent Agenda\n17:00–17:30: Meet and Greet\n17:30–17:45: Welcome by ProWoC\n17:45–18:30: Interview Segment with Samantha Almon Adeluwoye\n18:30–19:00: Q&A and Closing\n19:00–20:00: Networking \nFollow this link to register. \n\nEvent Policies\nPhotography Policy\nBy registering for this event\, you acknowledge that you may be photographed\, videotaped\, and/or audio-taped during the meeting and hereby give permission for your image\, voice\, or survey comments to be used in education\, training\, promotion\, and/or trade and communications media by ProWoc in any and all media throughout the world\, without restriction as to frequency or duration of usage. If you do not want your image to be used the please fill out this for: Image Consent form 
URL:https://prowoc.org/event/ec-lead-fuel-not-fire/
LOCATION:Villa copenhagen Centralpostbygningen\, Tietgensgade 35-39\, Copenhagen\, 1704\, Denmark
CATEGORIES:Exclusive Conversations
ATTACH;FMTTYPE=image/png:https://prowoc.org/wp-content/uploads/2025/10/EC-Nov-20-2025-with-Samantha-Almon-Adeluwoye-1.png
END:VEVENT
END:VCALENDAR