BEGIN:VCALENDAR
VERSION:2.0
PRODID:-//ProWoc⎮Professional Women of Colour Network⎮Denmark - ECPv6.15.20//NONSGML v1.0//EN
CALSCALE:GREGORIAN
METHOD:PUBLISH
X-WR-CALNAME:ProWoc⎮Professional Women of Colour Network⎮Denmark
X-ORIGINAL-URL:https://prowoc.org
X-WR-CALDESC:Events for ProWoc⎮Professional Women of Colour Network⎮Denmark
REFRESH-INTERVAL;VALUE=DURATION:PT1H
X-Robots-Tag:noindex
X-PUBLISHED-TTL:PT1H
BEGIN:VTIMEZONE
TZID:Europe/Copenhagen
BEGIN:DAYLIGHT
TZOFFSETFROM:+0100
TZOFFSETTO:+0200
TZNAME:CEST
DTSTART:20240331T010000
END:DAYLIGHT
BEGIN:STANDARD
TZOFFSETFROM:+0200
TZOFFSETTO:+0100
TZNAME:CET
DTSTART:20241027T010000
END:STANDARD
BEGIN:DAYLIGHT
TZOFFSETFROM:+0100
TZOFFSETTO:+0200
TZNAME:CEST
DTSTART:20250330T010000
END:DAYLIGHT
BEGIN:STANDARD
TZOFFSETFROM:+0200
TZOFFSETTO:+0100
TZNAME:CET
DTSTART:20251026T010000
END:STANDARD
BEGIN:DAYLIGHT
TZOFFSETFROM:+0100
TZOFFSETTO:+0200
TZNAME:CEST
DTSTART:20260329T010000
END:DAYLIGHT
BEGIN:STANDARD
TZOFFSETFROM:+0200
TZOFFSETTO:+0100
TZNAME:CET
DTSTART:20261025T010000
END:STANDARD
END:VTIMEZONE
BEGIN:VEVENT
DTSTART;TZID=Europe/Copenhagen:20251025T110000
DTEND;TZID=Europe/Copenhagen:20251025T130000
DTSTAMP:20260425T123812
CREATED:20251001T152518Z
LAST-MODIFIED:20251021T100057Z
UID:26579-1761390000-1761397200@prowoc.org
SUMMARY:Bridging the Gaps: A Conversation on Growth and Resilience
DESCRIPTION:✨Gaps exist everywhere—between cultures\, between expectations and reality\, and even between who we are and how we are perceived. 🗓️ At our next member event\, Bridging the Gaps\, Husna will share her journey from a global upbringing to leading billion-dollar construction projects—experiences that demanded opportunity\, growth\, and resilience. 🏆Her move to Denmark opened a new chapter\, where past achievements often collided with labels\, ideologies\, and cultural differences. 📒Together\, we’ll ask: \n\nHow do you rise above being underestimated?\nHow can exclusion be transformed into strength?\nHow do you reframe challenges as opportunities to lead?\n\n🖇️Join us for an open and honest conversation with fellow members as we explore growth\, resilience\, and practical ways of bridging both cultural and professional gaps. \nWe’d love to see you there! \nAgenda:\n• Welcome\n• Introductions\n• Talk: Bridging the Gaps\n• Open Q&A\n• Networking \n📝Click here to register » \n\n🗓️Saturday\, 25 October2025 | 11:00–13:00\n📍Mellemfolkeligt Samvirke\, Fælledvej 12\, 2200 Copenhagen N (ENTRANCE B: Community Hall is on the 1st floor)\nDKK ProWoc Members: FREE | Non-Members: 100DKK\n📝Last day to signup/register: Midnight on 22 October 2025 \n\nEvent Policies\nPhotography Policy\nBy registering for this event\, you acknowledge that you may be photographed\, videotaped\, and/or audio-taped during the meeting and hereby give permission for your image\, voice\, or survey comments to be used in education\, training\, promotion\, and/or trade and communications media by ProWoc in any and all media throughout the world\, without restriction as to frequency or duration of usage. If you do not want your image to be used the please fill out this for: Image Consent form 
URL:https://prowoc.org/event/proconnect-bridging-the-gaps/
CATEGORIES:ProConnect,TopWomen
ATTACH;FMTTYPE=image/png:https://prowoc.org/wp-content/uploads/2025/10/Sat-25Oct-ProConnect-with-Husna-Said.png
END:VEVENT
END:VCALENDAR