BEGIN:VCALENDAR
VERSION:2.0
PRODID:-//ProWoc⎮Professional Women of Colour Network⎮Denmark - ECPv6.15.20//NONSGML v1.0//EN
CALSCALE:GREGORIAN
METHOD:PUBLISH
X-ORIGINAL-URL:https://prowoc.org
X-WR-CALDESC:Events for ProWoc⎮Professional Women of Colour Network⎮Denmark
REFRESH-INTERVAL;VALUE=DURATION:PT1H
X-Robots-Tag:noindex
X-PUBLISHED-TTL:PT1H
BEGIN:VTIMEZONE
TZID:Europe/Copenhagen
BEGIN:DAYLIGHT
TZOFFSETFROM:+0100
TZOFFSETTO:+0200
TZNAME:CEST
DTSTART:20240331T010000
END:DAYLIGHT
BEGIN:STANDARD
TZOFFSETFROM:+0200
TZOFFSETTO:+0100
TZNAME:CET
DTSTART:20241027T010000
END:STANDARD
BEGIN:DAYLIGHT
TZOFFSETFROM:+0100
TZOFFSETTO:+0200
TZNAME:CEST
DTSTART:20250330T010000
END:DAYLIGHT
BEGIN:STANDARD
TZOFFSETFROM:+0200
TZOFFSETTO:+0100
TZNAME:CET
DTSTART:20251026T010000
END:STANDARD
BEGIN:DAYLIGHT
TZOFFSETFROM:+0100
TZOFFSETTO:+0200
TZNAME:CEST
DTSTART:20260329T010000
END:DAYLIGHT
BEGIN:STANDARD
TZOFFSETFROM:+0200
TZOFFSETTO:+0100
TZNAME:CET
DTSTART:20261025T010000
END:STANDARD
END:VTIMEZONE
BEGIN:VEVENT
DTSTART;TZID=Europe/Copenhagen:20251211T170000
DTEND;TZID=Europe/Copenhagen:20251211T193000
DTSTAMP:20260425T133407
CREATED:20251123T215131Z
LAST-MODIFIED:20251211T134944Z
UID:27196-1765472400-1765481400@prowoc.org
SUMMARY:Thursday = Mini-Friday: Last Drink of the Year + Ask Me Anything
DESCRIPTION:Thursday = Mini-Friday: Last Drink of the Year + Ask Me Anything\nOne last round before everyone disappears into holidays and travel. Join us on Thursday\, 11 December at the Courtyard Balcony at Villa Copenhagen for our last ProWoc drink of the year—a relaxed evening to unwind\, connect\, and close out 2025 together. It’s a Thursday\, but we’re treating it like a mini-Friday. \nThe Courtyard Balcony offers a cosy\, comfortable setting for an after-work hang\, and with music playing throughout the evening\, it’s an easy place to settle in\, chat\, and enjoy the atmosphere without anything feeling formal. \nThis is primarily a social\, but it also creates room for meaningful reflection and conversation. Several board members will be present to host an informal Ask Me Anything\, giving space for questions and light discussion about this past year and what members are looking toward in 2026. It’s simply a chance to share thoughts in an open\, approachable setting and explore how we can shape the direction together. \nWhat you can expect \n\nEvery guest will receive one complimentary drink upon arrival.\nFood and additional drinks are at personal cost.\nA DJ will be playing during the evening to keep the vibe relaxed and enjoyable.\n\n  \nEvent Details\n🗓️ Date: Thursday\, 11 December\n🕔 Time: 17:00–19:30\n📍Location: Villa Copenhagen\, Courtyard Bar\n🍹Format: Social hangout + informal Ask Me Anything with board members\n💫 Atmosphere: Casual\, after-work\, mini-Friday energy \n📋 RSVP below to join us! !! ONE registration per person Please have your guest complete the registration process. \nRegistration ends 09 Dec. 2025\n🥂 Come raise a glass and help us wrap up the year on a high note.
URL:https://prowoc.org/event/thursday-mini-friday/
LOCATION:Villa copenhagen Centralpostbygningen\, Tietgensgade 35-39\, Copenhagen\, 1704\, Denmark
CATEGORIES:Community,Social
ATTACH;FMTTYPE=image/png:https://prowoc.org/wp-content/uploads/2025/11/v2Dec11.png
ORGANIZER;CN="Communication and Visibility":MAILTO:comvis@prowoc.org
END:VEVENT
END:VCALENDAR