BEGIN:VCALENDAR
VERSION:2.0
PRODID:-//ProWoc⎮Professional Women of Colour Network⎮Denmark - ECPv6.15.20//NONSGML v1.0//EN
CALSCALE:GREGORIAN
METHOD:PUBLISH
X-WR-CALNAME:ProWoc⎮Professional Women of Colour Network⎮Denmark
X-ORIGINAL-URL:https://prowoc.org
X-WR-CALDESC:Events for ProWoc⎮Professional Women of Colour Network⎮Denmark
REFRESH-INTERVAL;VALUE=DURATION:PT1H
X-Robots-Tag:noindex
X-PUBLISHED-TTL:PT1H
BEGIN:VTIMEZONE
TZID:Europe/Copenhagen
BEGIN:DAYLIGHT
TZOFFSETFROM:+0100
TZOFFSETTO:+0200
TZNAME:CEST
DTSTART:20250330T010000
END:DAYLIGHT
BEGIN:STANDARD
TZOFFSETFROM:+0200
TZOFFSETTO:+0100
TZNAME:CET
DTSTART:20251026T010000
END:STANDARD
BEGIN:DAYLIGHT
TZOFFSETFROM:+0100
TZOFFSETTO:+0200
TZNAME:CEST
DTSTART:20260329T010000
END:DAYLIGHT
BEGIN:STANDARD
TZOFFSETFROM:+0200
TZOFFSETTO:+0100
TZNAME:CET
DTSTART:20261025T010000
END:STANDARD
BEGIN:DAYLIGHT
TZOFFSETFROM:+0100
TZOFFSETTO:+0200
TZNAME:CEST
DTSTART:20270328T010000
END:DAYLIGHT
BEGIN:STANDARD
TZOFFSETFROM:+0200
TZOFFSETTO:+0100
TZNAME:CET
DTSTART:20271031T010000
END:STANDARD
END:VTIMEZONE
BEGIN:VEVENT
DTSTART;TZID=Europe/Copenhagen:20260528T170000
DTEND;TZID=Europe/Copenhagen:20260528T200000
DTSTAMP:20260424T011505
CREATED:20260421T173100Z
LAST-MODIFIED:20260421T174256Z
UID:29310-1779987600-1779998400@prowoc.org
SUMMARY:Guided dialogue exploring leadership beyond execution and title
DESCRIPTION:Save the Date! \nEvent Start and End time\n· 17:00–17:30 | Meet & Greet – Arrival\, registration\, and informal networking\n· 17:30–17:40 | Welcome by ProWoc – Introduction to ProWoc and the Exclusive Conversations format\n· 17:40–18:45 | Exclusive Conversation – Guided dialogue exploring leadership beyond execution and title\n· 18:45–19:15 | Audience Interaction & Shared Reflections – Integrated Q&A and interaction\n· 19:15–19:25 | Key Takeaways & Closing – Closing reflections and insights\n· 19:25–20:00 | Networking – Informal networking and continued conversation \n📆 Thursday 28 May 2026\n🕐 17:00 -20:00\n📍Zoku Copenhagen\, Amagerfælledvej 108\, 2300 København\n🎫Click here to register today! 
URL:https://prowoc.org/event/guided-dialogue-exploring-leadership/
LOCATION:Zoku Copenhagen\, Amagerfælledvej 108\, Copenhagen\, 2300\, Denmark
CATEGORIES:Exclusive Conversations
ATTACH;FMTTYPE=image/png:https://prowoc.org/wp-content/uploads/2026/04/EC-May-28-Website.png
END:VEVENT
END:VCALENDAR