BEGIN:VCALENDAR
VERSION:2.0
PRODID:-//ProWoc⎮Professional Women of Colour Network⎮Denmark - ECPv6.15.20//NONSGML v1.0//EN
CALSCALE:GREGORIAN
METHOD:PUBLISH
X-ORIGINAL-URL:https://prowoc.org
X-WR-CALDESC:Events for ProWoc⎮Professional Women of Colour Network⎮Denmark
REFRESH-INTERVAL;VALUE=DURATION:PT1H
X-Robots-Tag:noindex
X-PUBLISHED-TTL:PT1H
BEGIN:VTIMEZONE
TZID:Europe/Copenhagen
BEGIN:DAYLIGHT
TZOFFSETFROM:+0100
TZOFFSETTO:+0200
TZNAME:CEST
DTSTART:20250330T010000
END:DAYLIGHT
BEGIN:STANDARD
TZOFFSETFROM:+0200
TZOFFSETTO:+0100
TZNAME:CET
DTSTART:20251026T010000
END:STANDARD
BEGIN:DAYLIGHT
TZOFFSETFROM:+0100
TZOFFSETTO:+0200
TZNAME:CEST
DTSTART:20260329T010000
END:DAYLIGHT
BEGIN:STANDARD
TZOFFSETFROM:+0200
TZOFFSETTO:+0100
TZNAME:CET
DTSTART:20261025T010000
END:STANDARD
BEGIN:DAYLIGHT
TZOFFSETFROM:+0100
TZOFFSETTO:+0200
TZNAME:CEST
DTSTART:20270328T010000
END:DAYLIGHT
BEGIN:STANDARD
TZOFFSETFROM:+0200
TZOFFSETTO:+0100
TZNAME:CET
DTSTART:20271031T010000
END:STANDARD
END:VTIMEZONE
BEGIN:VEVENT
DTSTART;TZID=Europe/Copenhagen:20260124T130000
DTEND;TZID=Europe/Copenhagen:20260124T150000
DTSTAMP:20260425T181439
CREATED:20260105T130202Z
LAST-MODIFIED:20260105T141136Z
UID:27494-1769259600-1769266800@prowoc.org
SUMMARY:ProWoC Winter Walk: Building Community
DESCRIPTION:ProWoC: Winter Walk\nBuilding Community\nThe start of the year brings hope\, energy to pursue goals and new perspectives. It is with\nthis mindset\, that ProWoC Esbjerg invites you for a winter walk on the 24th of January 2026. \nThis walk is planned in the hopes that WOC and allies can meet\, connect and build a\ncommunity. One of ProWoC Esbjerg 2026 goals is to nurture this community and ensure\nthat women have channels to build their social and professional network. \nAll women interested are invited to the walk. The more the merrier. We look forward to\nseeing a diverse group of women with their unique perspective on building communities and\nnetworking at the event. \n🗓️ Date: January 24th\, 2026\n🕐Time: 13:00 – 15:00\n📍Location: Sculpture “Tall Ship”\, Havnegade 40\, 6700 Esbjerg \nPrice: Free for everyone \n📝Event Agenda\n13:00–13:15: Welcome by ProWoC\n13:15–14:15: Walking\n14:15–15:00:Networking \nPlease RSVP below ⬇️
URL:https://prowoc.org/event/prowoc-walk-building-community/
LOCATION:Sculpture “Tall Ship” Havnegade 40\, 6700 Esbjerg\, Havnegade 40\, Esbjerg\, 6700\, Denmark
CATEGORIES:Esbjerg events,Inspiring,Personal development
ATTACH;FMTTYPE=image/png:https://prowoc.org/wp-content/uploads/2026/01/Website-Event-page-ProWoc-Winter-Walk-.png
END:VEVENT
END:VCALENDAR