BEGIN:VCALENDAR
VERSION:2.0
PRODID:-//ProWoc⎮Professional Women of Colour Network⎮Denmark - ECPv6.15.20//NONSGML v1.0//EN
CALSCALE:GREGORIAN
METHOD:PUBLISH
X-ORIGINAL-URL:https://prowoc.org
X-WR-CALDESC:Events for ProWoc⎮Professional Women of Colour Network⎮Denmark
REFRESH-INTERVAL;VALUE=DURATION:PT1H
X-Robots-Tag:noindex
X-PUBLISHED-TTL:PT1H
BEGIN:VTIMEZONE
TZID:Europe/Copenhagen
BEGIN:DAYLIGHT
TZOFFSETFROM:+0100
TZOFFSETTO:+0200
TZNAME:CEST
DTSTART:20250330T010000
END:DAYLIGHT
BEGIN:STANDARD
TZOFFSETFROM:+0200
TZOFFSETTO:+0100
TZNAME:CET
DTSTART:20251026T010000
END:STANDARD
BEGIN:DAYLIGHT
TZOFFSETFROM:+0100
TZOFFSETTO:+0200
TZNAME:CEST
DTSTART:20260329T010000
END:DAYLIGHT
BEGIN:STANDARD
TZOFFSETFROM:+0200
TZOFFSETTO:+0100
TZNAME:CET
DTSTART:20261025T010000
END:STANDARD
BEGIN:DAYLIGHT
TZOFFSETFROM:+0100
TZOFFSETTO:+0200
TZNAME:CEST
DTSTART:20270328T010000
END:DAYLIGHT
BEGIN:STANDARD
TZOFFSETFROM:+0200
TZOFFSETTO:+0100
TZNAME:CET
DTSTART:20271031T010000
END:STANDARD
END:VTIMEZONE
BEGIN:VEVENT
DTSTART;TZID=Europe/Copenhagen:20260218T170000
DTEND;TZID=Europe/Copenhagen:20260218T200000
DTSTAMP:20260424T160152
CREATED:20260127T174503Z
LAST-MODIFIED:20260217T124714Z
UID:27616-1771434000-1771444800@prowoc.org
SUMMARY:Exclusive Conversation with Jandara Smith: Leadership beyond the Job Title
DESCRIPTION:ProWoc Exclusive Conversation with Jandara Smith\n✨Leadership Beyond the Job Title \nWhat does leadership really look like when execution is no longer enough?\nMany professionals reach a point where they are trusted\, relied upon\, and technically strong\, yet still feel uncertain about how decisions are made\, how influence is exercised\, and what truly signals readiness for the next level. Titles change\, responsibilities grow\, but the rules of leadership often remain unspoken.\nThat’s why leadership beyond the job title requires a different kind of awareness.\nIt is about moving from execution to judgement.\nIt is about influence without formal authority.\nIt is about presence\, clarity\, and impact in decision-making rooms. \nThis is why we are excited to welcome Jandara Smith\, as our guest speaker for this Exclusive Conversation. \nJandara Smith is an HR Business Partner who partners with senior leaders and their leadership teams to strengthen organizational effectiveness\, elevate leadership capability\, and drive people‑focused business outcomes. She is passionate about helping companies achieve their strategic ambitions by empowering leaders and teams to grow\, adapt\, and operate at the next level as the business evolves. She also cares deeply about creating inclusive environments where people feel valued and able to contribute at their best\, which I see as essential to healthy teams and sustainable business performance. \nIt is about discernment\, focus\, and learning where to place energy when the stakes rise. \nThe conversation will be guided by Steffi Dexter Miranda. \n🗓️ Date: February 18\, 2026\n🕔 Time: 17:00 – 20:00\n📍Location: Zoku Copenhagen\nkr Price: 150 kr for members\, 250 kr for non members\, 150 kr students \nEvent Agenda\n· 17:00–17:30 | Meet & Greet – Arrival\, registration\, and informal networking\n· 17:30–17:40 | Welcome by ProWoc – Introduction to ProWoc and the Exclusive Conversations format\n· 17:40–18:45 | Exclusive Conversation – Guided dialogue exploring leadership beyond execution and title\n· 18:45–19:15 | Audience Interaction & Shared Reflections – Integrated Q&A and interaction\n· 19:15–19:25 | Key Takeaways & Closing – Closing reflections and insights\n· 19:25–20:00 | Networking – Informal networking and continued conversation \nFormat Note:\nThis is an Exclusive Conversation — not a panel or keynote. The audience is an active participant\, and the focus is depth\, honesty\, and shared learning. \nClick here to register\nRegistration ends noon 18 February 2026
URL:https://prowoc.org/event/ec-leadership-beyond-the-job-title/
LOCATION:Zoku Copenhagen\, Amagerfælledvej 108\, Copenhagen\, 2300\, Denmark
CATEGORIES:Exclusive Conversations
ATTACH;FMTTYPE=image/png:https://prowoc.org/wp-content/uploads/2026/01/EC-Website-Events-1.png
END:VEVENT
BEGIN:VEVENT
DTSTART;TZID=Europe/Copenhagen:20260221T130000
DTEND;TZID=Europe/Copenhagen:20260221T150000
DTSTAMP:20260424T160152
CREATED:20260204T140902Z
LAST-MODIFIED:20260205T095149Z
UID:27713-1771678800-1771686000@prowoc.org
SUMMARY:ProConnect: Daring to Build
DESCRIPTION:ProConnect: Angela Rocha\, PhD\nDaring to Build\n🎉You’re invited!\nDaring to Build: Turning Conviction into Reality \nSome people wait for permission. Others build anyway.\nBuilding something meaningful rarely starts with perfect conditions. It starts with a question. A frustration. A quiet conviction that things could be better. \nAt our next Prowoc member event\, Angela will share her journey of transforming a personal insight into a science-driven food company — and what it truly takes to build when the path is unclear\, the category doesn’t exist yet\, and the answers must be created along the way. \nFrom idea to product\, from doubt to direction\, the journey has demanded courage\, patience\, and a deep belief in building solutions that matter. \nTogether\, we’ll explore:\n• What gives you the courage to start before you feel ready?\n• How do you keep believing when progress is invisible?\n• How do you turn obstacles into fuel instead of friction?\n• What does it mean to build with purpose\, not just profit?\nJoin us for an open and honest conversation about courage\, resilience\, and the quiet power of choosing to build — even when no one is asking you to. \n🗓️ Date: February 21st\, 2026\n🕐Time: 13:00 – 15:00\n📌Location: Esbjerg Library\, Nørregade 19\, 6700 Esbjerg\n🪙 Price: Free for everyone \nEvent Agenda\n13:00–13:15: Welcome by ProWoC\n13:15–14:00: Talk: Daring to Build\n14:00–14:30: Q&A\n14:30-15:00: Networking
URL:https://prowoc.org/event/proconnect-daring-to-build/
LOCATION:Esbjerg Hovedbibliotek\, Nørregade 19\, Esbjerg\, 6700\, Denmark
CATEGORIES:ProConnect
ATTACH;FMTTYPE=image/png:https://prowoc.org/wp-content/uploads/2026/02/21-Feb-event-ProConnect-with-Angela-1.png
END:VEVENT
BEGIN:VEVENT
DTSTART;TZID=Europe/Copenhagen:20260225T163000
DTEND;TZID=Europe/Copenhagen:20260225T183000
DTSTAMP:20260424T160152
CREATED:20260129T140832Z
LAST-MODIFIED:20260225T111321Z
UID:27656-1772037000-1772044200@prowoc.org
SUMMARY:AI Masterclass: From Great Ideas to Agents
DESCRIPTION:Registration closed. \nAI is no longer just for developers or data scientists — it’s for anyone with ideas. In this session\, we will guide you through the basics of modern AI and show you\, step by step\, how simple ideas can become powerful GPTs and AI agents. \nThis interactive masterclass\, AI Masterclass: From Great Ideas to Agents\, is designed to break down AI in a clear and practical way\, while giving you hands-on exposure to real tools and approaches used today. Whether you come from a technical background or are simply curious about AI\, this session is built to meet you where you are. \nWe’ll focus on how ideas can be turned into real\, useful AI solutions — including GPTs and AI agents — using simple explanations and real-world examples. The goal is to make AI feel accessible\, relevant\, and empowering. \nIn this session\, you will: \n\nLearn the fundamentals of AI and how GPTs and agents work in real-world scenarios\nExplore beginner-friendly AI tools and platforms you can start using right away\nBuild your own simple GPT or AI agent — no coding experience required\nEngage in open conversations and mentorship with AI practitioners and professionals\nConnect with peers who are curious about technology\, innovation\, and inclusive futures\n\nNo prior experience is required — just curiosity\, ideas\, and a willingness to learn. \n🗓️ Date: February 25\, 2026\n🕔 Time: 16:30 – 18:30\n📍Location: Mærsk HQ\, Esplanaden 50\, 1098 Copenhagen K\nkr Free to attend. (100 kr. No show fee.)\nRegistration now closed.  \n📢 Please read: Refund / No show fee policy.
URL:https://prowoc.org/event/ai-masterclass-ideas-agents/
LOCATION:2300
CATEGORIES:AI workshop
ATTACH;FMTTYPE=image/png:https://prowoc.org/wp-content/uploads/2026/01/Website-Event-AI-Masterclass.png
END:VEVENT
END:VCALENDAR