BEGIN:VCALENDAR
VERSION:2.0
PRODID:-//ProWoc⎮Professional Women of Colour Network⎮Denmark - ECPv6.15.20//NONSGML v1.0//EN
CALSCALE:GREGORIAN
METHOD:PUBLISH
X-WR-CALNAME:ProWoc⎮Professional Women of Colour Network⎮Denmark
X-ORIGINAL-URL:https://prowoc.org
X-WR-CALDESC:Events for ProWoc⎮Professional Women of Colour Network⎮Denmark
REFRESH-INTERVAL;VALUE=DURATION:PT1H
X-Robots-Tag:noindex
X-PUBLISHED-TTL:PT1H
BEGIN:VTIMEZONE
TZID:Europe/Copenhagen
BEGIN:DAYLIGHT
TZOFFSETFROM:+0100
TZOFFSETTO:+0200
TZNAME:CEST
DTSTART:20240331T010000
END:DAYLIGHT
BEGIN:STANDARD
TZOFFSETFROM:+0200
TZOFFSETTO:+0100
TZNAME:CET
DTSTART:20241027T010000
END:STANDARD
BEGIN:DAYLIGHT
TZOFFSETFROM:+0100
TZOFFSETTO:+0200
TZNAME:CEST
DTSTART:20250330T010000
END:DAYLIGHT
BEGIN:STANDARD
TZOFFSETFROM:+0200
TZOFFSETTO:+0100
TZNAME:CET
DTSTART:20251026T010000
END:STANDARD
BEGIN:DAYLIGHT
TZOFFSETFROM:+0100
TZOFFSETTO:+0200
TZNAME:CEST
DTSTART:20260329T010000
END:DAYLIGHT
BEGIN:STANDARD
TZOFFSETFROM:+0200
TZOFFSETTO:+0100
TZNAME:CET
DTSTART:20261025T010000
END:STANDARD
END:VTIMEZONE
BEGIN:VEVENT
DTSTART;TZID=Europe/Copenhagen:20251101T100000
DTEND;TZID=Europe/Copenhagen:20251101T150000
DTSTAMP:20260424T190220
CREATED:20251007T070832Z
LAST-MODIFIED:20251025T192608Z
UID:26675-1761991200-1762009200@prowoc.org
SUMMARY:ProWoc Annual Wellness Event 2025
DESCRIPTION:🌿 ProWoc Annual Wellness Event 2025 🌿\nBuilding Resilience Through Mind-Body Wellness\nTake a pause\, breathe deeply\, and reconnect with your inner strength. Join us for a rejuvenating morning of movement\, mindfulness\, and meaningful connection — designed to help you reset\, recharge\, and refocus. \n🗓 Date: 01 November 2025\n📍 Location: Mellemfolkeligt Samvirke\, Fælledvej 12\, 2200 København\n🕙 Time: 10:00 AM – 3:00 PM \nAgenda Highlights:\n✨ 10:00 AM – 10:20 AM: Arrival & Registration – Pick up your welcome packet and settle in.\n✨ 10:20 AM: Welcome by Head of CPD and introduction of our guest facilitator\, Louise Dissing.\n✨ 10:30 AM – 12:00 PM: Morning Movement Session\n“Building Resilience Through Mind-Body Wellness”\nAn interactive session with reflection and Q&A.\n✨ 12:00 PM – 12:10 PM: Closing Session\n✨ 12:20 PM – 3:00 PM: Lunch & Networking – Nourish your body and connect with peers ( two course meal at Villette) \nCome as you are — leave inspired\, refreshed\, and rebalanced. 🌸\n📝Click here to register\nRSVP: Please advise if you will join the lunch by the 26th October.\nDress Code: Comfortable attire for movement and bring your favorite yoga mat! \n\nEvent Policies\nPhotography Policy\nBy registering for this event\, you acknowledge that you may be photographed\, videotaped\, and/or audio-taped during the meeting and hereby give permission for your image\, voice\, or survey comments to be used in education\, training\, promotion\, and/or trade and communications media by ProWoc in any and all media throughout the world\, without restriction as to frequency or duration of usage. If you do not want your image to be used the please fill out this for: Image Consent form   \n 
URL:https://prowoc.org/event/pw-wellness-event-2025/
LOCATION:2300
CATEGORIES:Impact,Personal development,Wellness
ATTACH;FMTTYPE=image/png:https://prowoc.org/wp-content/uploads/2025/10/Event-Wellnes.png
END:VEVENT
BEGIN:VEVENT
DTSTART;TZID=Europe/Copenhagen:20251108T130000
DTEND;TZID=Europe/Copenhagen:20251108T150000
DTSTAMP:20260424T190220
CREATED:20251019T092746Z
LAST-MODIFIED:20251101T163605Z
UID:26922-1762606800-1762614000@prowoc.org
SUMMARY:Potluck: Stretching out of your comfort zone
DESCRIPTION:A comfort food potluck with purpose\nOn 8. Nov\, we’re hosting something a cozy\, community-driven event where we’ll share both food and stories of growth. \n🍲 Theme: “Stretching Out of Your Comfort Zone”\nWe’ll explore how professional volunteering and networks can become stepping stones to leadership\, visibility\, and purpose\, all while sharing our favourite comfort foods. \nEvent Program: \nA short talk: “From Volunteering to Vision: How I Built My Career through Professional Networks” Phoebe Benta´s journey of turning community engagement into career growth. \nComfort Zone vs. Stretch Zone : a reflective speed networking activity. \nA collaborative workshop where we share our skills\, community needs and how we can work together to lift each other up professionally using the power of community \n🤝 Who’s invited: Anyone who is passionate about professional growth\, inclusion\, and community.\n📅 Date & Time: 8 Nov 13.00 – 15.00\n🍴 Bring: A dish that feels like comfort to you.\n📍Esbjerg Hovedbibliotek (Library)\, Nørregade 19\, 6700 Esbjerg\n🎫Free to attend \nJoin us for an afternoon of connection\, reflection\, and action.\nBecause what we put into our community is exactly what we’ll get out of it. \nWe hope to see you there!\nRSVP to the event below.⬇️ \n\nEvent Policies\nPhotography Policy\nBy registering for this event\, you acknowledge that you may be photographed\, videotaped\, and/or audio-taped during the meeting and hereby give permission for your image\, voice\, or survey comments to be used in education\, training\, promotion\, and/or trade and communications media by ProWoc in any and all media throughout the world\, without restriction as to frequency or duration of usage. If you do not want your image to be used the please fill out this for: Image Consent form 
URL:https://prowoc.org/event/potluck-in-esbjerg-library/
LOCATION:Esbjerg Hovedbibliotek\, Nørregade 19\, Esbjerg\, 6700\, Denmark
CATEGORIES:Community,Esbjerg events,Inclusion,Inspiring,Social
ATTACH;FMTTYPE=image/png:https://prowoc.org/wp-content/uploads/2025/10/Event-page-Esbjerg-potluck-event-1.png
END:VEVENT
BEGIN:VEVENT
DTSTART;TZID=Europe/Copenhagen:20251120T170000
DTEND;TZID=Europe/Copenhagen:20251120T200000
DTSTAMP:20260424T190220
CREATED:20251004T165711Z
LAST-MODIFIED:20251104T085618Z
UID:26625-1763658000-1763668800@prowoc.org
SUMMARY:Exclusive Conversation with Samantha Adeluwoye
DESCRIPTION:Leading with Fuel\, Not Fire\nWhat does it take to build a career that lasts? For many early- and mid-career professionals\, the pressure is constant: move faster\, reach the next title\, achieve more. But too much focus on short-term wins can leave us depleted — and unprepared for the challenges ahead. \nThat’s why sustainable career growth requires a different approach.\nIt is about building depth and breadth in your skills\, routines\, and mindset.\nIt is about staying energized for growth over the long term.\nAnd it is about defining success beyond quick wins. \n✨This is why we are excited to welcome Samantha Almon Adeluwoye\, Global Director of Content and Social Media at Maersk\, as our guest speaker. Samantha’s career journey reflects exactly what it means to lead with fuel\, not fire. She began behind the camera\, capturing iconic musicians\, and went on to earn a Promax Award at the BBC before moving into global leadership. At Maersk\, she has transformed the company’s digital presence to reach over six million followers\, while earning recognition as one of the industry’s most influential social media leaders. \n🏆Her path shows that lasting impact comes from building steadily over time — blending creativity with strategy\, commerce with culture\, and vision with discipline. Samantha’s story is proof that careers are sustained not by burning out\, but by cultivating the energy and perspective to grow for the long term. \n🗓️ Date: November 20th\, 2025\n🕔 Time: 17:00 – 20:00\n📍Location: Villa Copenhagen \nPrice: 150 kr for members\, 250 kr for non members\, 200 kr BPoC members\, 100 kr Hybrid \nEvent Agenda\n17:00–17:30: Meet and Greet\n17:30–17:45: Welcome by ProWoC\n17:45–18:30: Interview Segment with Samantha Almon Adeluwoye\n18:30–19:00: Q&A and Closing\n19:00–20:00: Networking \nFollow this link to register. \n\nEvent Policies\nPhotography Policy\nBy registering for this event\, you acknowledge that you may be photographed\, videotaped\, and/or audio-taped during the meeting and hereby give permission for your image\, voice\, or survey comments to be used in education\, training\, promotion\, and/or trade and communications media by ProWoc in any and all media throughout the world\, without restriction as to frequency or duration of usage. If you do not want your image to be used the please fill out this for: Image Consent form 
URL:https://prowoc.org/event/ec-lead-fuel-not-fire/
LOCATION:Villa copenhagen Centralpostbygningen\, Tietgensgade 35-39\, Copenhagen\, 1704\, Denmark
CATEGORIES:Exclusive Conversations
ATTACH;FMTTYPE=image/png:https://prowoc.org/wp-content/uploads/2025/10/EC-Nov-20-2025-with-Samantha-Almon-Adeluwoye-1.png
END:VEVENT
BEGIN:VEVENT
DTSTART;TZID=Europe/Copenhagen:20251129T180000
DTEND;TZID=Europe/Copenhagen:20251129T180000
DTSTAMP:20260424T190220
CREATED:20250826T075243Z
LAST-MODIFIED:20251125T111840Z
UID:26300-1764439200-1764439200@prowoc.org
SUMMARY:🎉Julefrokost Presented by ProWoc and BPoC (Holiday Dinner party)
DESCRIPTION:Registration has ended for Dinner registration.\nYou may still purchase your Party ticket. Click on the link below. \n📣 Following the success of last year’s legendary party\, it’s time to get your groove on once again! ProWoc and BPoC are thrilled to announce our annual Julefrokost celebration\, happening on 29 November 2025\, from 18:00 to midnight. The event will be held at the stunning venue Nordhus\, a vibrant cultural hub in Nordhavn. \n🎉 Join us for an unforgettable evening of fun\, friends\, and festivities! The evening begins at 18:00 with a welcome drink\, followed by a delicious 3-course family-style meal. At 21.00\, we’ll hit the dance floor as our DJ kicks off the party. The celebration concludes at midnight. \n🎟️ Note: Public sales of dinner tickets closed on 18th November.\n \n  \nParty-only tickets are available on this link.\n– Ticket sales ends at midnight 26 Nov.2025\n– Please purchase tickets in advance – payment will not be available at the door. \n  \nFor those who booked dinner tickets\, please find the menu below. \n🌟 Menu\nWelcome drink:\nA glass of bubbles with or without alcohol \nAppetizer:\nGlazed beets with cream cheese\, browned butter\, fennel\, and hibiscus \nMain course (served family style): \n\nConfit duck leg with duck sauce (Meat)\nGlazed salt-baked celeriac (Vegetarian)\n\nSide dishes (shared) \n\nRed cabbage salad with orange\, pomegranate\, nuts\, and mustard vinaigrette\nKale salad with roasted onions and parsnips\nRoasted potatoes with butter and herbs\n\nDessert:\nRis à la mande with apricot sauce and caramelised almonds \n💃🏽Dress code: Shine bright in your most dazzling festive attire!\n🍹Drinks will be for sale at special party prices. \n✅ Stay tuned for updates and get ready to celebrate with us! We can’t wait to party with you!\n🗓️Date: 29 November 2025\n🕕Time: 18:00 – 00:00\n📍Location: Nordhus\, Århusgade 124A\, 2150 København \n  \nPhoto credit: Nordhus \n\nEvent Policies\nPhotography Policy\nBy registering for this event\, you acknowledge that you may be photographed\, videotaped\, and/or audio-taped during the meeting and hereby give permission for your image\, voice\, or survey comments to be used in education\, training\, promotion\, and/or trade and communications media by ProWoc in any and all media throughout the world\, without restriction as to frequency or duration of usage. If you do not want your image to be used the please fill out this for: Image Consent form 
URL:https://prowoc.org/event/jule-frokost-nov2025/
LOCATION:Nordhus\, Århusgade 124A\, København\, 2150\, Denmark
CATEGORIES:Activities,Holiday
ATTACH;FMTTYPE=image/png:https://prowoc.org/wp-content/uploads/2025/09/Julefrkost-AnnualHolidayParty.png
END:VEVENT
END:VCALENDAR