BEGIN:VCALENDAR
VERSION:2.0
PRODID:-//ProWoc⎮Professional Women of Colour Network⎮Denmark - ECPv6.15.20//NONSGML v1.0//EN
CALSCALE:GREGORIAN
METHOD:PUBLISH
X-WR-CALNAME:ProWoc⎮Professional Women of Colour Network⎮Denmark
X-ORIGINAL-URL:https://prowoc.org
X-WR-CALDESC:Events for ProWoc⎮Professional Women of Colour Network⎮Denmark
REFRESH-INTERVAL;VALUE=DURATION:PT1H
X-Robots-Tag:noindex
X-PUBLISHED-TTL:PT1H
BEGIN:VTIMEZONE
TZID:Europe/Copenhagen
BEGIN:DAYLIGHT
TZOFFSETFROM:+0100
TZOFFSETTO:+0200
TZNAME:CEST
DTSTART:20250330T010000
END:DAYLIGHT
BEGIN:STANDARD
TZOFFSETFROM:+0200
TZOFFSETTO:+0100
TZNAME:CET
DTSTART:20251026T010000
END:STANDARD
BEGIN:DAYLIGHT
TZOFFSETFROM:+0100
TZOFFSETTO:+0200
TZNAME:CEST
DTSTART:20260329T010000
END:DAYLIGHT
BEGIN:STANDARD
TZOFFSETFROM:+0200
TZOFFSETTO:+0100
TZNAME:CET
DTSTART:20261025T010000
END:STANDARD
BEGIN:DAYLIGHT
TZOFFSETFROM:+0100
TZOFFSETTO:+0200
TZNAME:CEST
DTSTART:20270328T010000
END:DAYLIGHT
BEGIN:STANDARD
TZOFFSETFROM:+0200
TZOFFSETTO:+0100
TZNAME:CET
DTSTART:20271031T010000
END:STANDARD
END:VTIMEZONE
BEGIN:VEVENT
DTSTART;TZID=Europe/Copenhagen:20260309T170000
DTEND;TZID=Europe/Copenhagen:20260309T200000
DTSTAMP:20260424T172556
CREATED:20260126T150901Z
LAST-MODIFIED:20260308T082944Z
UID:27585-1773075600-1773086400@prowoc.org
SUMMARY:International Women's Day 2026: Give to Gain
DESCRIPTION:Registration closed. \nLast day to register: Midnight\, Saturday\, 07 March\, 2026 \nInternational Women’s Day\nLeading with purpose: What if generosity was your greatest leadership strategy?\nThis International Women’s Day\, ProWoc and Implement Consulting Group invite you to go beyond the celebration — into a real\, inspiring conversation about what it truly means to lead with contribution. \nBecause the leaders who create lasting impact aren’t just the ones who take bold decisions. They’re the ones who give deliberately — who build influence through responsibility\, courage\, and a deep commitment to long-term value for the people and teams around them. \nA leadership conversation for those ready to think differently about how we show up\, contribute\, and grow together. \nJoin ProWoc and Implement Consulting Group for an International Women’s Day conversation on Give to Gain — a deeper look at how generosity\, contribution\, and shared responsibility and opportunity shape long-term value for people\, teams\, and society. \n📅 9 March 2026\n⏰ 17:00–20:00\n📍 Implement Consulting Group\, Strandvejen 54\, 2900 Hellerup (Historic Tuborg brewery buildings).\nkr 150 DKK for members – 250 DKK for non members – 150 DKK for Students\n🚊From Hellerup Station\, Strandvejen 54: 🚌-Five minutes with bus | 🚗 Parking spaces in the area and also at Waterfront shopping center. \nLast day to register: Midnight\, Saturday\, 07 March\, 2026 \nProgramme 🎙️\n17:00 – 17:30 | Registration & Welcome\n17:30 – 17:40 | Opening Remarks\n17:40 – 18:15 | Keynote Address\n18:15 – 18:25 | Break\n18:25 – 19:20 | Give to Gain Panel & Live Q&A\n19:20 – 19:30 | Closing Reflections\n19:30 – 20:30 | Networking Reception & Light Dinner \n\nProWoc is proud to announce our Keynote Speaker for International Women’s Day 2026: Give to Gain Rikke Rønholt Albertsen Some leadership journeys are shaped by visibility and momentum. Others are shaped by range — by moving between worlds\, standards\, and expectations\, and learning how to lead across all of them. \nRikke Rønholt Albertsen’s journey belongs firmly in the latter. Across elite sport\, global sustainability work\, and academia\, Rikke has built a career defined by discipline\, judgment\, and long-term contribution. Not by shortcuts or slogans\, but by showing up — consistently — in environments that demand clarity\, credibility\, and responsibility. \nIn her keynote\, Rikke brings Give to Gain to life through leadership as it is actually lived — holding paradox\, navigating trade-offs\, and committing to contribution even when outcomes are uncertain. \nWhat you’ll take with you: \n\nA clearer way of thinking about Give to Gain as a daily leadership practice\, not a one-time decision\nTools to hold paradox and navigate trade-offs without losing clarity or conviction\nPerspective on how to lead with confidence and influence even when recognition isn’t immediate or guaranteed\nA deeper sense of how to stand comfortably in who you are\, shaped by the many layers of your experience\n\nRather than offering prescriptions\, Rikke offers perspective: on how giving becomes a way of leading\, and how long-term contribution quietly compounds into collective gain. \nModerator and Panelist  \n\n		\n		\n			\n				\n			\n			\n				\n			\n			\n				\n			\n			\n				\n			\n		\n\n\nProfile From elite athletics to leadership development and organisational transformation\, and later into global sustainability and development work in collaboration with UN agencies\, NGOs\, and Danish embassies\, Rikke Rønholt Albertsen has worked at the intersection of performance and purpose. Today\, she teaches and researches leadership and corporate sustainability at Copenhagen Business School and INSEAD\, while continuing to serve on boards of civil society organisations working with human rights and sustainable development. \n\nJoin ProWoc and Implement Consulting Group for an International Women’s Day conversation on Give to Gain — a deeper look at how generosity\, contribution\, and shared responsibility and opportunity shape long-term value for people\, teams\, and society.
URL:https://prowoc.org/event/iwd-2026-give-to-gain/
LOCATION:Implement Consulting Group\, Strandvejen 54\, Hellerup\, 2900
CATEGORIES:Inspiring,IWD,Leadership
ATTACH;FMTTYPE=image/png:https://prowoc.org/wp-content/uploads/2026/01/EVENT-IWD-2026-Presentation-1.png
END:VEVENT
BEGIN:VEVENT
DTSTART;TZID=Europe/Copenhagen:20260320T160000
DTEND;TZID=Europe/Copenhagen:20260320T190000
DTSTAMP:20260424T172556
CREATED:20260306T074201Z
LAST-MODIFIED:20260320T080739Z
UID:28218-1774022400-1774033200@prowoc.org
SUMMARY:Pressure & Sugar: Understanding the Silent Killers
DESCRIPTION:Registration has ended. \nPreventing & Living Well with Diabetes and Hypertension\nOn Friday 20th March\, Brotherhood for Professionals of Color (BPoC)\, in collaboration with IDA\, invites you to an important and timely conversation about two of the most prevalent chronic conditions affecting communities of color worldwide: diabetes and high blood pressure. \nThese conditions are often called “silent killers.” They can develop gradually\, without obvious symptoms\, while quietly increasing the risk of heart attacks\, strokes\, kidney disease\, and other serious complications. And for many men of color\, health conversations are often delayed or avoided altogether\, even though our physical and mental wellbeing directly shape our careers\, our families\, and our futures. \nIn this powerful double session\, medical experts and community voices come together to: \n\nBreak down what diabetes and hypertension are\nDiscuss why early detection is vital — especially for people of color\nShare tips for prevention and lifestyle changes that really work\nExplore how to live well with a diagnosis\, and how to support loved ones\n\nThis event is about changing that narrative. \nWe are creating an open\, accessible\, and empowering space where professionals can learn\, ask questions\, and gain practical tools for prevention\, early detection\, and healthier living. It is not just about medical facts. It is about awareness\, responsibility\, and community support. \nWhat to Expect\nOur expert speaker from the World Diabetes Foundation will deliver a 40-minute evidence-based presentation\, followed by a 20-minute Q&A session. \nThe session will: \nProvide practical\, research-based insights on diabetes prevention and management\nExplore global health disparities and why communities of color are disproportionately affected\nHighlight the World Diabetes Foundation’s current initiatives\, opportunities\, and community-focused programs \nThis is an opportunity to understand the bigger picture and to leave with actionable knowledge you can apply in your daily life. \nAnd after the formal session\, we will continue the conversation over food and networking. BPoC always provides a safe space where we can speak openly about men’s health and mental resilience. \n🗓️March 20\, 2026\n🕛16:00 – 19:00\n📍IDA Conference\, Kalvebod Brygge 31\, 1560 København\, Denmark\n👛FREE for DKK BPoC & ProWoc members | 100 DKK for non-members\n✍🏽Last day to register: 16 March
URL:https://prowoc.org/event/health-event-bpoc/
LOCATION:IDA\, Kalvebod Brygge 31-33\, Copenhagen\, 1780
CATEGORIES:Health
ATTACH;FMTTYPE=image/png:https://prowoc.org/wp-content/uploads/2026/03/V2-Website-Diabetes-Event-BPOC-Presentation.png
END:VEVENT
BEGIN:VEVENT
DTSTART;TZID=Europe/Copenhagen:20260418T100000
DTEND;TZID=Europe/Copenhagen:20260418T130000
DTSTAMP:20260424T172556
CREATED:20260325T194250Z
LAST-MODIFIED:20260417T070931Z
UID:28386-1776506400-1776517200@prowoc.org
SUMMARY:A Moment for You – Demystifying Meditation
DESCRIPTION:Demystifying and Normalising Meditation\nA Wellbeing Session\n10:00 AM – 1:00 PM\nThe event begins with a relaxed social breakfast\, followed by a 1 hour 30 minute interactive session combining talk and guided meditation. \nSession includes:\n• 1-minute Arrival Meditation\n• Practical talk on integrating meditation into daily life\n• Guided meditation\n• Open reflections and questions\n• 1-minute Closing Meditation \nGain simple\, practical tools to support greater focus\, balance and joy in everyday life.\nWork-life balance is a myth — life balance is possible. Presence is our true nature. \nEvent Agenda: \n10:00–11:30 – Breakfast\n11:30–13:00 Arrival Meditation\, Demystifying Meditation & Mindfulness \n• What meditation is (and isn’t)\n• How to practice in daily life without setting time aside\n• Presence\, focus\, and inner leadership \nGuided Meditation\nOpen Reflections & Q&A \nThe event is facilitated by Maria Therese Founder and Spaceholder of QuietSpace \n📆 April 18\, 2026 | 10:00 13:00\n📍 Matrikel1 Workbar\, Matrikel1\, Gammel Strand 26\, 1202 København\n🪙ProWoc members: 150 kr | Non members: 250 kr\n👯‍♀️ Free for Active volunteers. Please contact your committee head for registration link.\n‼️Contact us at membership@prowoc.org if you have any dietary restrictions.  \n\nAbout Maria Therese Jessen-Petersen:  \nMaria is on a journey to live a simpler\, more meaningful life — less noise\, more presence. \nIn 2017 Maria founded QuietSpace with the vision of bringing Japanese inspired tatami rooms\, often used for contemplative practices such as meditation\, into the hearts of organisations to continually help support and regulate our nervous system while at work. \nThrough QuietSpace\, Maria implements QuietSpace rooms in organisations\, guides short Arrival Meditations at corporate events\, mentors both individuals and teams in meditation and co-hosts transformative retreats for young founders and CEOs. \nQuietSpace is a bridge to the inner foundation that connects us all—our hearts. It is an invitation to step into stillness\, embrace our shared humanity\, and navigate life with greater clarity\, purpose and ease.
URL:https://prowoc.org/event/demystifying-meditation/
LOCATION:Matrikel1 Workbar\, Matrikel 1 Gammel Strand 26\, Copenhagen\, 1202\, Denmark
ATTACH;FMTTYPE=image/png:https://prowoc.org/wp-content/uploads/2026/03/Website-Wellbeing-event-April-2026.png
END:VEVENT
BEGIN:VEVENT
DTSTART;TZID=Europe/Copenhagen:20260425T130000
DTEND;TZID=Europe/Copenhagen:20260425T150000
DTSTAMP:20260424T172556
CREATED:20260404T190630Z
LAST-MODIFIED:20260405T112138Z
UID:29023-1777122000-1777129200@prowoc.org
SUMMARY:ProConnect with Evelyne Kabemba (Esbjerg Library)
DESCRIPTION:“I had no village\, so I built a system”\nWhat does it really take to build a fulfilling life when you have no village to support you?\nThis 25 April\, Evelyne Kabemba will join us for an honest conversation about professional ambition\, motherhood\, and the myth of work-life balance. \nShe will share her experience as a foreign professional navigating work\, family\, and personal growth without the support structures many of us take for granted. \nThis isn’t a talk about doing it all. It’s about doing it with intention. \nIn this session\, Evelyne will talk about. \n\nWhy chasing balance may be the wrong goal\nHow thinking in seasons changes everything\nWhat it looks like to build systems that actually fit your life\n\n📆 Saturday 25 April 2026\n🕐 13:00 – 15:00\n📍Esbjerg Library\, Nørregade 19\, 6700 Esbjerg\n🎫Free entry. Open to all.\nRegister below.
URL:https://prowoc.org/event/proconnect-april2026/
LOCATION:Esbjerg Hovedbibliotek\, Nørregade 19\, Esbjerg\, 6700\, Denmark
CATEGORIES:ProConnect
ATTACH;FMTTYPE=image/png:https://prowoc.org/wp-content/uploads/2026/04/Event-ProConnect.png
END:VEVENT
BEGIN:VEVENT
DTSTART;TZID=Europe/Copenhagen:20260430T163000
DTEND;TZID=Europe/Copenhagen:20260430T183000
DTSTAMP:20260424T172556
CREATED:20260405T111350Z
LAST-MODIFIED:20260407T173239Z
UID:29042-1777566600-1777573800@prowoc.org
SUMMARY:Decoding Danish Taxes: What Every Professional & Expat Should Know A Practical Guide for Understanding and Navigating SKAT in Denmark
DESCRIPTION:New to Denmark or just confused by the SKAT system? You’re not alone.\nJoin us for a practical and engaging session that breaks down the Danish tax system — no jargon\, just clarity. Perfect for expats\, international professionals\, and anyone trying to make sense of their payslip\, or deductions.\nAbout the event\nDecoding Danish Taxes: What Every Professional & Expat Should Know A Practical Guide for Understanding and Navigating SKAT in Denmark\nUnderstanding how taxes work in Denmark can feel overwhelming — especially for expats and newcomers navigating a system that’s very different from home. But knowing how to manage your taxes is essential for financial wellness\, legal compliance\, and peace of mind. \nIn this interactive and accessible session\, you will: \n\nGain a clear overview of how the Danish tax system works\nLearn about income tax\, deductions\, and what’s mandatory\nUnderstand the annual tax return (årsopgørelse) and preliminary income assessment (forskudsopgørelse)\nGet guidance on NemID/MitID\, skat.dk navigation\, and who to contact for help\nHear practical advice from tax professionals with experience supporting internationals and professionals of color\n\n🕟16:30 – 18:30\n🗓️Thursday\, 30th April 2026\n📍EY Copenhagen\, Dirch Passers Allé 36\, 2000 Frederiksberg\nRegister today at BPOC.DK \nLast day to register: 27 April 2026\, 23:50 CEST
URL:https://prowoc.org/event/decoding-danish-taxes/
LOCATION:EY\, Dirch Passers Allé 36\, Frederiksberg\, 2000\, Denmark
ATTACH;FMTTYPE=image/png:https://prowoc.org/wp-content/uploads/2026/04/Event-Decoding-Danish-Taxes-with-BPOC-.png
END:VEVENT
BEGIN:VEVENT
DTSTART;TZID=Europe/Copenhagen:20260518T123000
DTEND;TZID=Europe/Copenhagen:20260518T183000
DTSTAMP:20260424T172556
CREATED:20260317T161005Z
LAST-MODIFIED:20260318T094925Z
UID:28336-1779107400-1779129000@prowoc.org
SUMMARY:Womenomics Global Summit 2026: Future Fluency
DESCRIPTION:Womenomics Global Summit 2026 Future Fluency: Human-Centered Leadership in an Accelerating World\nThe theme of Womenomics 2026 will be: ‘Future Fluency – Human-Centred Leadership in an Accelerating World’. The program will spotlight inclusive leadership as a core business driver\, the rising influence of the female economy and how AI is reshaping the future workplace which demands an increased focus on addressing bias. \nWomenomics brings together global experts\, corporate trailblazers and thought-leaders in order to educate and motivate its audience\, with concrete tools and inspirational stories. The conference also provides a unique networking opportunity\, for business executives to connect with other like-minded leaders. \n🗓️ 🕧 Monday | May 18\, 2026 | 12:30 – 18:30\n📍The Royal Danish Playhouse (Skuespilhuset)\n📖 About Womenomics\n🎟️ Buy Tickets\n🎙️ Speakers\n📋 Program
URL:https://prowoc.org/event/womenomics-global-summit-2026/
LOCATION:The Royal Danish Playhouse\, Sankt Annæ Pl. 36\, Copenhagen\, 1250\, Denmark
CATEGORIES:Global Summit
ATTACH;FMTTYPE=image/png:https://prowoc.org/wp-content/uploads/2026/03/Event-Womenomics-2026-1.png
END:VEVENT
BEGIN:VEVENT
DTSTART;TZID=Europe/Copenhagen:20260528T170000
DTEND;TZID=Europe/Copenhagen:20260528T200000
DTSTAMP:20260424T172556
CREATED:20260421T173100Z
LAST-MODIFIED:20260421T174256Z
UID:29310-1779987600-1779998400@prowoc.org
SUMMARY:Guided dialogue exploring leadership beyond execution and title
DESCRIPTION:Save the Date! \nEvent Start and End time\n· 17:00–17:30 | Meet & Greet – Arrival\, registration\, and informal networking\n· 17:30–17:40 | Welcome by ProWoc – Introduction to ProWoc and the Exclusive Conversations format\n· 17:40–18:45 | Exclusive Conversation – Guided dialogue exploring leadership beyond execution and title\n· 18:45–19:15 | Audience Interaction & Shared Reflections – Integrated Q&A and interaction\n· 19:15–19:25 | Key Takeaways & Closing – Closing reflections and insights\n· 19:25–20:00 | Networking – Informal networking and continued conversation \n📆 Thursday 28 May 2026\n🕐 17:00 -20:00\n📍Zoku Copenhagen\, Amagerfælledvej 108\, 2300 København\n🎫Click here to register today! 
URL:https://prowoc.org/event/guided-dialogue-exploring-leadership/
LOCATION:Zoku Copenhagen\, Amagerfælledvej 108\, Copenhagen\, 2300\, Denmark
CATEGORIES:Exclusive Conversations
ATTACH;FMTTYPE=image/png:https://prowoc.org/wp-content/uploads/2026/04/EC-May-28-Website.png
END:VEVENT
BEGIN:VEVENT
DTSTART;TZID=Europe/Copenhagen:20260530T100000
DTEND;TZID=Europe/Copenhagen:20260530T120000
DTSTAMP:20260424T172556
CREATED:20260304T193728Z
LAST-MODIFIED:20260407T160642Z
UID:28206-1780135200-1780142400@prowoc.org
SUMMARY:Workshop: Female Health in the workplace. Redefining Menstruation at Work
DESCRIPTION:Redefining Menstruation at Work: Practical and Supportive Strategies\nPeriods affect about half the population\, yet many of us have learned to hide\, minimise\, or feel ashamed of something completely natural — especially at work. \nThat’s why “Beyond the Bits Project” is hosting a 2-hour virtual workshop exploring menstrual health in the workplace. \nThis interactive and reflective session offers:\n– Building comfort and confidence around menstrual health\n– Understanding the cycle\n– Strategies to support menstruation in the workplace\n– Q&A and closing circle \nIf you’re curious about how we can bring more awareness\, compassion\, and openness into our professional spaces\, you’re warmly invited to join us. \nAgenda\n\nWelcome and Intro\nBuilding comfort and confidence around menstrual health\nUnderstanding the cycle\nStrategies to support menstruation in the workplace\nQ&A and closing circle\n\nRegister today!\n🗓️ 30 May 2026\n⌚ 10:00 – 12:00\n🛜 Virtual event \nFree for members\n75 kr for non members
URL:https://prowoc.org/event/workshop-female-health/
LOCATION:2300
CATEGORIES:Health
ATTACH;FMTTYPE=image/png:https://prowoc.org/wp-content/uploads/2026/03/Health-Workshop.png
END:VEVENT
END:VCALENDAR