BEGIN:VCALENDAR
VERSION:2.0
PRODID:-//ProWoc⎮Professional Women of Colour Network⎮Denmark - ECPv6.15.20//NONSGML v1.0//EN
CALSCALE:GREGORIAN
METHOD:PUBLISH
X-WR-CALNAME:ProWoc⎮Professional Women of Colour Network⎮Denmark
X-ORIGINAL-URL:https://prowoc.org
X-WR-CALDESC:Events for ProWoc⎮Professional Women of Colour Network⎮Denmark
REFRESH-INTERVAL;VALUE=DURATION:PT1H
X-Robots-Tag:noindex
X-PUBLISHED-TTL:PT1H
BEGIN:VTIMEZONE
TZID:Europe/Copenhagen
BEGIN:DAYLIGHT
TZOFFSETFROM:+0100
TZOFFSETTO:+0200
TZNAME:CEST
DTSTART:20200329T010000
END:DAYLIGHT
BEGIN:STANDARD
TZOFFSETFROM:+0200
TZOFFSETTO:+0100
TZNAME:CET
DTSTART:20201025T010000
END:STANDARD
BEGIN:DAYLIGHT
TZOFFSETFROM:+0100
TZOFFSETTO:+0200
TZNAME:CEST
DTSTART:20210328T010000
END:DAYLIGHT
BEGIN:STANDARD
TZOFFSETFROM:+0200
TZOFFSETTO:+0100
TZNAME:CET
DTSTART:20211031T010000
END:STANDARD
BEGIN:DAYLIGHT
TZOFFSETFROM:+0100
TZOFFSETTO:+0200
TZNAME:CEST
DTSTART:20220327T010000
END:DAYLIGHT
BEGIN:STANDARD
TZOFFSETFROM:+0200
TZOFFSETTO:+0100
TZNAME:CET
DTSTART:20221030T010000
END:STANDARD
END:VTIMEZONE
BEGIN:VEVENT
DTSTART;TZID=Europe/Copenhagen:20210309T180000
DTEND;TZID=Europe/Copenhagen:20210309T193000
DTSTAMP:20260424T144445
CREATED:20210301T172246Z
LAST-MODIFIED:20210827T090455Z
UID:4032-1615312800-1615318200@prowoc.org
SUMMARY:Personal roadmaps to success: A round table discussion
DESCRIPTION:  \nLIVE ON FACEBOOK – https://www.facebook.com/watch/live/?v=479732286383385&ref=watch_permalink\n  \nTo celebrate ProWoc’s second anniversary\, ProWoc is inviting you to participate in a special roundtable discussion on “Roadmap to Success: How to make it big and succeed”.  \n\n\n\nOur panelists are Yvonne Seier Christensen\, Owner\, and Creative Lead at YSC Champagne; Phaedria Marie St.Hilaire\, Co-Founder\, and President of ProWoc & fmr. Director at Novo Nordisk; Ifeoma Okpala\, Vice President of ProWoc & Head of Operations Transformation at Maersk Sealand. \n\n\n\nAnniversary Remarks by Selim Ablo-Nielsen\, Co-Founder of ProWoc & Senior Compliance Counsel at Novo Nordisk. \n\n\n\nModeration by Divya Rao\, Head of Communications at ProWoc & CEO of Drive Communications \n\n\n\nThe event is virtual and free for all women who wish to attend. (Zoom link: https://us02web.zoom.us/j/83099529663) \n\n\n\n<< Register no later than March 7th\, 2021. >> \n\n\n\nSecure your spot now for an exciting and inspirational evening. \n\n\n\n\n\n\n\n\n\n\n\n\n\n\n\n 
URL:https://prowoc.org/event/road-map-to-success/
CATEGORIES:Career Development,IWD,Networking,Road map,Success,Virtual event
ATTACH;FMTTYPE=image/png:https://prowoc.org/wp-content/uploads/2021/03/ProWoc-International-Womens-Day-2021-1-1.png
END:VEVENT
BEGIN:VEVENT
DTSTART;TZID=Europe/Copenhagen:20210308T180000
DTEND;TZID=Europe/Copenhagen:20210308T203000
DTSTAMP:20260424T144445
CREATED:20210301T171245Z
LAST-MODIFIED:20210827T090312Z
UID:4025-1615226400-1615235400@prowoc.org
SUMMARY:The role of Women Networks in Gender equality
DESCRIPTION:EVENT TWO  \n\n\n\nLadies First Network invites you to a conversation on whether women’s networks can strengthen gender equality. Birgitte Baadegaard\, Anne Stampe Olesen and ProWoc’s Phaedria Marie St.Hilaire will participate in the discussion. \n\n\n\nThe event will be in Danish and you can register with Ladies First: https://ladiesfirst.simplero.com/page/195344-list-signup \n\n\n\nThe event is free for all.
URL:https://prowoc.org/event/gender-equality/
LOCATION:Online/Virtual\, Denmark
CATEGORIES:Gender equality,IWD,Networking,Virtual event
ATTACH;FMTTYPE=image/png:https://prowoc.org/wp-content/uploads/2021/03/ProWoc-Anniversay-Roundtable.png
END:VEVENT
BEGIN:VEVENT
DTSTART;TZID=Europe/Copenhagen:20210308T180000
DTEND;TZID=Europe/Copenhagen:20210308T193000
DTSTAMP:20260424T144445
CREATED:20210301T170101Z
LAST-MODIFIED:20210827T090147Z
UID:3981-1615226400-1615231800@prowoc.org
SUMMARY:A Roundtable Discussion: Being Authentic in your professional life
DESCRIPTION:EVENT ONE: Please RSVP Below \n\n\n\nPersonal and professional development event \n\n\n\nTo mark International Women’s Day 2021 and ProWoc’s second anniversary\, ProWoc is holding a special roundtable discussion on “Being Authentic in your Professional life”. \n\n\n\nOur panelists are Carice Anderson\, Senior Principal Consultant at Korn Ferry and Author of “Intelligence isn’t enough A Black Professional’s Guide to Thriving in the Workplace” and Carriene Rendbo\, CEO and Owner of I love Natural Hair and Anne Kathrine\, a partner at Deloitte. \n\n\n\nModeration by Nyeleti Sue-Angel Nkuna\, Partnership Manager at AWM Networks. \n\n\n\nThe event is virtual and free for all women who wish to attend. (Zoom link: https://us02web.zoom.us/j/89739012539) \n\n\n\nA calendar invite will be sent out after registration.  \n\n\n\nRegister no later than March 7th 2021. \n\n\n\nSecure your spot now for an exciting and inspirational evening. \n\n\n\n\n\n\n\n\n\n\n\n\n\n\n\n 
URL:https://prowoc.org/event/iwd-being-authentic/
LOCATION:Your Zoom link for CD Masterclass: Preparing for a Tech-Enabled Workforce
CATEGORIES:Activities,Authentic self,Career Development,Professional Women,Virtual event
ATTACH;FMTTYPE=image/png:https://prowoc.org/wp-content/uploads/2021/03/ProWoc-International-Womens-Day-2021.png
END:VEVENT
BEGIN:VEVENT
DTSTART;TZID=Europe/Copenhagen:20210220T113000
DTEND;TZID=Europe/Copenhagen:20210220T133000
DTSTAMP:20260424T144445
CREATED:20210210T134139Z
LAST-MODIFIED:20210905T065942Z
UID:3876-1613820600-1613827800@prowoc.org
SUMMARY:ProConnect with Carice Anderson
DESCRIPTION: \n\nCOMPETITION ALERT!\nWe are excited to be hosting the first-ever ProConnect of 2021. We bring you updates from ProWoc and its members besides having a very special guest – Carice Anderson. Enter the competition to win a copy of Carice’s book: Intelligence Isn’t Enough: A Black Professional’s Guide to Thriving in the Workplace.\n\nRegister on or before 15 Feb 2021 to be eligible to participate in a draw. Two lucky winners will get a mystery prize!\n\n\nPAYMENT:\nMembers: free\n\nNon- members: DKK 50\n\nLearn more about Carice\n\nCarice is a seasoned professional who is passionate about entrepreneurship\, empowering people\, growing leaders\, helping people identify and operate in their strengths\, and working with organizations to improve trust and impact. She believes that leadership of self\, others\, and organisations is the answer to all of the challenges and opportunities in the world today.\n\nCarice is the author of Intelligence Isn’t Enough: A Black Professional’s Guide to Thriving in the Workplace. The book is published by Jonathan Ball Publishers and it is a career advice manual for young black professionals. It has been endorsed by Celiwe Ross\, Human Capital Director for Old Mutual\, one of the oldest and most respected pan-African companies.\n\nWe look forward to welcoming you to this special edition of ProConnect. Register today!\n\n \n\nThe electronic version of the ‘Intelligence Isn’t Enough: A Black Professional’s Guide to Thriving in the Workplace’\, is already available on Amazon for a discounted pre-order price so please grab your copy now.
URL:https://prowoc.org/event/proconnect-canderson/
CATEGORIES:Career Development,Influence,Mentoring,Networking,Personal Purpose,ProConnect,Virtual event
ATTACH;FMTTYPE=image/png:https://prowoc.org/wp-content/uploads/2021/02/Pro-Connect-Carice-Anderson.png
END:VEVENT
END:VCALENDAR