BEGIN:VCALENDAR
VERSION:2.0
PRODID:-//ProWoc⎮Professional Women of Colour Network⎮Denmark - ECPv6.15.20//NONSGML v1.0//EN
CALSCALE:GREGORIAN
METHOD:PUBLISH
X-ORIGINAL-URL:https://prowoc.org
X-WR-CALDESC:Events for ProWoc⎮Professional Women of Colour Network⎮Denmark
REFRESH-INTERVAL;VALUE=DURATION:PT1H
X-Robots-Tag:noindex
X-PUBLISHED-TTL:PT1H
BEGIN:VTIMEZONE
TZID:Europe/Copenhagen
BEGIN:DAYLIGHT
TZOFFSETFROM:+0100
TZOFFSETTO:+0200
TZNAME:CEST
DTSTART:20220327T010000
END:DAYLIGHT
BEGIN:STANDARD
TZOFFSETFROM:+0200
TZOFFSETTO:+0100
TZNAME:CET
DTSTART:20221030T010000
END:STANDARD
BEGIN:DAYLIGHT
TZOFFSETFROM:+0100
TZOFFSETTO:+0200
TZNAME:CEST
DTSTART:20230326T010000
END:DAYLIGHT
BEGIN:STANDARD
TZOFFSETFROM:+0200
TZOFFSETTO:+0100
TZNAME:CET
DTSTART:20231029T010000
END:STANDARD
BEGIN:DAYLIGHT
TZOFFSETFROM:+0100
TZOFFSETTO:+0200
TZNAME:CEST
DTSTART:20240331T010000
END:DAYLIGHT
BEGIN:STANDARD
TZOFFSETFROM:+0200
TZOFFSETTO:+0100
TZNAME:CET
DTSTART:20241027T010000
END:STANDARD
BEGIN:DAYLIGHT
TZOFFSETFROM:+0100
TZOFFSETTO:+0200
TZNAME:CEST
DTSTART:20250330T010000
END:DAYLIGHT
BEGIN:STANDARD
TZOFFSETFROM:+0200
TZOFFSETTO:+0100
TZNAME:CET
DTSTART:20251026T010000
END:STANDARD
BEGIN:DAYLIGHT
TZOFFSETFROM:+0100
TZOFFSETTO:+0200
TZNAME:CEST
DTSTART:20260329T010000
END:DAYLIGHT
BEGIN:STANDARD
TZOFFSETFROM:+0200
TZOFFSETTO:+0100
TZNAME:CET
DTSTART:20261025T010000
END:STANDARD
END:VTIMEZONE
BEGIN:VEVENT
DTSTART;TZID=Europe/Copenhagen:20250426T123000
DTEND;TZID=Europe/Copenhagen:20250426T150000
DTSTAMP:20260424T193556
CREATED:20250412T170015Z
LAST-MODIFIED:20250416T091803Z
UID:25567-1745670600-1745679600@prowoc.org
SUMMARY:Getting Cozy With Conflict
DESCRIPTION:Through Getting Cozier with Conflict\, you will explore adaptable strategies to manage disagreements\, improve communication\, and foster collaboration—even when conflict isn’t in their comfort zone. \n🌟Getting Cozier with Conflict offers a practical\, supportive space for women leaders to build the knowledge\, skills and confidence to navigate conflict on their own terms. \n🌟We will explore clear\, logical tools and real-world strategies that approach conflict resolution from both a somatic (handling our bodies) and cognitive (taking the most useful approach to the situation). This 3 hour interactive workshop helps participants handle disagreements with greater clarity\, adaptability\, and impact—even when conflict doesn’t come naturally. \nLEARNING OBJECTIVES:\nBy the end of this workshop\, you will be able to:\n✅ See conflict not as a threat\, but as a powerful leadership tool for clarity\, connection\, and progress.\n✅Shift from reactive to responsive by understanding how your brain processes conflict and how to pause with purpose.\n✅Use simple\, practical techniques to stay grounded\, use “wise mind\,” and choose your best self\, even in high-stakes moments.\n✅Explore five proven conflict-handling styles and when to use each one for maximum impact.\n✅Walk away with more confidence\, more calm\, and a whole new approach to navigating tension—especially in environments where power dynamics or gender can add dimensions of complexity. \n🔥Getting Cozier with Conflict offers a practical\, supportive space for women leaders to build the knowledge\, skills and confidence to navigate conflict on their own terms. \nJoin us on Saturday\, 26 April and learn how to turn conflict into a catalyst for stronger communication\, deeper collaboration\, and more empowered leadership. \n🕕 Time: 12:30 – 15:00\n📍Location: Nørre Allé 7\, Room: Cielo\n🗓️ Last day to register: 24 April\, 2025\n🎟️ Cost: ProWoc members: 150kr | Non members: 250kr\n🖋️ To Register Click here!
URL:https://prowoc.org/event/getting-cozy-with-conflict/
CATEGORIES:Masterclass,Professional development
ATTACH;FMTTYPE=image/png:https://prowoc.org/wp-content/uploads/2025/04/Event-Cozy-with-Conflict-Beth-Jenson-web-1.png
END:VEVENT
BEGIN:VEVENT
DTSTART;TZID=Europe/Copenhagen:20240825T100000
DTEND;TZID=Europe/Copenhagen:20240825T170000
DTSTAMP:20260424T193556
CREATED:20230828T134044Z
LAST-MODIFIED:20240529T133013Z
UID:21087-1724580000-1724605200@prowoc.org
SUMMARY:Your CV tailored for the Nordic job market
DESCRIPTION:New date: August 25\, 2024\nThe popular ProWoc CV masterclass is back! \nIncrease your chances of getting that job interview with a powerful CV & elevator pitch crafted for the Nordic job market. ProWoc offers this full day workshop in partnership with Unique Human Capital\, a leading human capital consulting firm and recruitment agency in Denmark. \nExecutive Search expert\, author\, and ProWoc member\, Belinda Bramsnæs from Unique Human Capital will facilitate where she will demonstrate ‘the rule of 20 seconds’ used by recruiters\, give you critical tips and tricks for preparing the perfect CV tailored to the Nordic job market and support you in crafting your personal pitch. \nYour preparation for the Workshop\nTo participate on the day\, please email your CV to beb@uhc.dk before the deadline (14th Aug).\nBring the CV in physical form as well. \n» Registration closes at midnight Tuesday\, August 14th \nOnly 12 seats available. >> Click here to Register today!
URL:https://prowoc.org/event/cv-tailored-nordic-job-market/
LOCATION:Unique Human Capital A/S\, Jægersborg Alle 4\, Charlottenlund\, 2920
CATEGORIES:Career Development,CV,Diversity,Impact,Leadership,Networking,Professional development
ATTACH;FMTTYPE=image/png:https://prowoc.org/wp-content/uploads/2024/05/August-25th-Masterclass-InstagramPost.png
ORGANIZER;CN="Career and Personal Development Committee":MAILTO:mcdp@prowoc.org
END:VEVENT
BEGIN:VEVENT
DTSTART;TZID=Europe/Copenhagen:20240824T100000
DTEND;TZID=Europe/Copenhagen:20240824T120000
DTSTAMP:20260424T193556
CREATED:20240813T062738Z
LAST-MODIFIED:20240813T064626Z
UID:23448-1724493600-1724500800@prowoc.org
SUMMARY:ProConnect: Embracing Change with Dr Juliet Biira Hansen
DESCRIPTION:Did you know that nearly 50% of professionals will undergo a significant career change at least once in their lifetime? Navigating change in the work environment can be both challenging and rewarding\, but requires adaptability\, resilience\, and strategic thinking. \nOur ProConnect event on August 24th will empower you to take control of your career journey and navigate the tides of change with confidence and resilience. In light of this\, our guest speaker for the “Her Story” segment will be Dr Juliet Biira Hansen. \nDr. Juliet’s story is nothing short of inspiring. After earning her PhD in Agricultural Economics from the University of Copenhagen\, she seamlessly transitioned from academia to the corporate world. She has built an impressive career in Denmark\, focusing on strategy development\, execution\, and project management\, holding various roles in the IT and Biotech industries. \nJuliet will share her journey of pivoting from academia to the private sector\, providing insights into the Biotech industry. She will also discuss how she navigates both personal and professional challenges\, emphasizing the power of strong social ties. \nJoin us for an empowering networking event designed to equip you with the tools and inspiration needed to thrive during times of career transitions. \nOther Event Highlights: \nSpeed-dating Session: Participate in fast-paced\, interactive sessions designed for you to get to know other ProWoc members and make meaningful connections through impactful conversations. \nNetworking Opportunities: Change is the only constant\, connect with like-minded professionals who may be experiencing or anticipating career changes. Share your experiences\, exchange ideas\, and build a support network. \nAgenda: \n09:45 Arrival & coffee\n10:00 Welcome and Introductions\n10:15 ProWoc Speed dating\n10:30 Her Story (moderated discussion)\n11:00 Breakout (group discussions)\n11:20 Wrap up & vote of thanks\n11:30 Networking session till close of event \nCost:\nProWoc members – DKK 100\nNon members – DKK 150 \nPlease click here to register.\nRegister ends on midnight Friday\, August 22nd.
URL:https://prowoc.org/event/proconnect-dr-juliet-biira-hansen/
LOCATION:Villa copenhagen Centralpostbygningen\, Tietgensgade 35-39\, Copenhagen\, 1704\, Denmark
CATEGORIES:ProConnect,Professional development,Social,Success,Tools
ATTACH;FMTTYPE=image/png:https://prowoc.org/wp-content/uploads/2024/08/ProConnect-August-with-JulietBH-Presentation.png
END:VEVENT
BEGIN:VEVENT
DTSTART;TZID=Europe/Copenhagen:20240625T170000
DTEND;TZID=Europe/Copenhagen:20240625T200000
DTSTAMP:20260424T193556
CREATED:20240612T153426Z
LAST-MODIFIED:20240620T104055Z
UID:23121-1719334800-1719345600@prowoc.org
SUMMARY:Exclusive Conversations with Ambre James-Brown - Hybrid
DESCRIPTION:Join us for an Exclusive Conversation with Ambre James-Brown\, Vice President of Global Media & Stakeholder Communication at Novo Nordisk. Recently featured in Berlingske as an influential corporate leader in Denmark\, Ambre will provide insights on how you as a professional can enhance your branding and communication etiquette. This session is perfect for those who want to revamp their personal brand and increase their executive presence in and outside of the workplace. \nEvent Details:\n📅 Date: 25/06/24 🕒 Time: 17.00-20.00 📍 Venue: Villa Copenhagen \nRegister Now to secure your spot as tickets for this inspiring session are limited. Registration closes at midnight 24/06/2024\nIn-person:\nProWoc member DKK150\nNon member DKK250 \nVirtual:\nProWoc member DKK100\nNon member DKK175 \n#ExclusiveConversations #Branding #Communication #AmbreJamesBrown #Event \n\nAbout Ambre James-Brown:\nAmbre James-Brown is an award-winning communication executive with more than 20 years of experience\, and currently holds the position of Vice President of Global Media & Stakeholder Communication at Novo Nordisk. Originally from the United States of America\, but currently based in Copenhagen\, Denmark\, she oversees a team dedicated to international media relations\, CEO communications\, issues management\, and crisis communications. Under her leadership\, global media coverage for the company saw a remarkable 276% increase in 2023. \nAmbre joined Novo Nordisk in the U.S. in 2008 and transitioned to a global role in 2011\, working between Copenhagen and the U.S. Her extensive experience includes a short-term assignment in Tokyo in 2019\, where she successfully launched two diabetes brands. Recognized as a “Rising Star” by the Healthcare Businesswomen’s Association and named “Working Mother of the Year” by Novo Nordisk\, Ambre is also a Harvard Kennedy School Executive Education program graduate and holds a Diversity & Inclusion certificate from Cornell University. \nA co-founder of Black Employees @Novo Nordisk and a board member of the Boys & Girls Clubs of Mercer County\, Ambre has been celebrated for her authentic and impactful campaigns. Notably\, she led the award-winning Get Real About Diabetes campaign with “black-ish” star Anthony Anderson.\nDon’t miss this opportunity to learn from Ambre James-Brown’s wealth of experience and elevate your personal branding and communication. \nRegister Now to secure your spot as tickets for this inspiring session are limited.
URL:https://prowoc.org/event/exclusive-conversations-with-ambre-james-brown/
LOCATION:Villa copenhagen Centralpostbygningen\, Tietgensgade 35-39\, Copenhagen\, 1704\, Denmark
CATEGORIES:Authentic self,Branding,Exclusive Conversations,Impact,Influence,Inspiring,Personal development,Personal Purpose,Professional development,Success,Value
ATTACH;FMTTYPE=image/png:https://prowoc.org/wp-content/uploads/2024/06/Exclusive-Conversations-with-Ambre-James-Brown-on-Branding-and-Communication-Presentation.png
END:VEVENT
BEGIN:VEVENT
DTSTART;TZID=Europe/Copenhagen:20240619T180000
DTEND;TZID=Europe/Copenhagen:20240619T193000
DTSTAMP:20260424T193556
CREATED:20240602T233742Z
LAST-MODIFIED:20240603T123544Z
UID:22944-1718820000-1718825400@prowoc.org
SUMMARY:CD Masterclass: Preparing for a Tech-Enabled Workforce
DESCRIPTION:Join us for an inspiring webinar on ‘Preparing for a Tech-Enabled Workforce’ where Oyinkansola Adebayo\, an edtech and employment expert\, will delve into the transformative impact of technology on the modern workplace. Explore strategies for adapting to emerging technological trends\, fostering digital literacy and skills\, and optimizing workflow efficiency through innovative approaches and practices. Gain invaluable insights into navigating the dynamic landscape of a tech-driven workforce and equipping yourself with the skills and resources needed to thrive in the digital age. \nBy attending this webinar\, you will: \n\nStay Ahead of the Curve: Understand the latest technological advancements and how they are reshaping industries\, ensuring you remain competitive and relevant in your field.\nEnhance Your Skill Set: Learn how to develop essential digital skills and improve your digital literacy\, making you more adaptable and versatile in a tech-centric job market.\nBoost Workflow Efficiency: Discover innovative methods to streamline your work processes and increase productivity through the effective use of technology.\nStrategize for Success: Gain practical strategies for integrating new technologies into your workplace\, allowing you to leverage them for maximum impact and efficiency.\nNetwork with Experts: Connect with industry leaders and like-minded professionals\, expanding your professional network and opening up new opportunities for collaboration and growth.\nPrepare for the Future: Equip yourself with the knowledge and tools needed to navigate and succeed in the evolving digital landscape\, ensuring long-term career success and advancement.\n\nDon’t miss this opportunity to stay ahead in the evolving world of work and secure your place in the tech-enabled future! \n\nAbout the speaker \n“Oyinkansola ‘Oyin’ Adebayo is the Founder and CEO of an AI learn to earn ed-tech platform called Niyo . Niyo’s purpose is to create a high impact training platform to up skill 1million people globally by 2030 Niyo does this through enabling women to learn through immersive short courses\, attend events virtually and physically and also be equipped to be up-skilled through our global bootcamps. The edtech platform is set to revolutionize the edtech industry by empowering learners\, educators\, and institutions to connect\, share\, and learn in a more open\, immersive and decentralized way. Since 2020\, Oyin has up-skilled over 560 black women to become software engineers\, Data analysts\, VR & AR engineers\, Hair and Beauty Professionals and Tech Founders. Some of Niyo Clients include GCHQ\, the Department for Education in the UK\, KPMG\, Goldman Sachs and many more. \nHer work has been recognised in BBC News\, The Voice\, Metro\, Black Beauty and Hair Magazine\, Nottingham Post and many more. She has also won many awards including Women in Tech Innovation Awards\, Barclays Social Impact Awards\, MBCC Entrepreneur of the year and Female Innovator of the year. She has spoken at Women In Tech Festival\, Vodafone UK\, KPMG\, Goldman Sachs\, Credit Suisse\, Africa Tech Week\, Birmingham Tech week and many more. \nShe has a BA in Economics and Management from Nottingham Business School and an MSc in Development Economics. She is particularly passionate about addressing poverty especially amongst black women and using disruptive and high value tools to transform the lives of women across the world through helping women secure employment opportunities that would have been just a dream without the skills and tools we would have provided them”.
URL:https://prowoc.org/event/cdmasterclass-tech-workforce/
LOCATION:Your Zoom link for CD Masterclass: Preparing for a Tech-Enabled Workforce
CATEGORIES:Career Development,Impact,Masterclass,Personal development,Professional development,STEM,Success,Virtual event
ATTACH;FMTTYPE=image/png:https://prowoc.org/wp-content/uploads/2024/06/ProWoc-Webinar-event-IGPost-LinkedIn.png
END:VEVENT
BEGIN:VEVENT
DTSTART;TZID=Europe/Copenhagen:20240506T163000
DTEND;TZID=Europe/Copenhagen:20240506T190000
DTSTAMP:20260424T193556
CREATED:20240422T104719Z
LAST-MODIFIED:20240429T094051Z
UID:22612-1715013000-1715022000@prowoc.org
SUMMARY:ProConnect: A Masterclass in Thriving in Danish Workplaces
DESCRIPTION:🎙️ A live podcast recording on the topic of Thriving in the Danish workplace as an international.\nThe event is in collaboration with KarriereKlubben. \nWhat does it take to thrive in the Danish workplace? How do you traverse cultural differences? What are the unwritten rules that often create workplace challenges? \nDenmark is often ranked as one of the best countries in the world to work in\, due to its work culture.\nHowever\, cracking the code on e.g.\, how to communicate effectively with your Danish colleagues\, how to successfully navigate the work environment\, can be a challenge for an international and a woman of colour. \nJoin us for this special Live Podcast event where you will get advice on your (anonymous) workplace dilemma from our expert panel.\nYou will get tips and inspiration on how to handle some of the challenges you face in the Danish work environment. Afterwards\, there will be networking session and refreshments. \nClick here to register >> Registration deadline is May 3rd\, however\, Register today to secure your spot as slots are limited. \nWhen you register\, please send us your workplace dilemma which will be anonymized for your privacy. \nOur Expert Panel comprises:\n\n🌟 Dr. Phaedria Marie St.Hilaire\, a former corporate leader in Danish International companies and DEIB consultant\n🌟 Nichlas Walsted\, CEO and Co-Founder of Swap Language\n🌟 Hardip Bains\, Corporate Vice President and international HR Leader and Expert\n\nYour dilemmas will be fielded by Caroline Rossmeisl\, a communications expert and Podcast Host and Producer \nThis event is a joint collaboration between ProWoc and Karrierekulbben and will be held at SimCorp. \n\nAgenda\n16:30-17:00 Arrival & Networking\n17:00-17:15 Welcome & Introductions\n17:15-18:15 Live Podcast- Dilemma Responses\n18:15-18:30 Wrap up by ProWoc\n18:30-19:00 Networking & Close\nLive audio recording will be 30-45mins and rest of the segment without recording.\n  \nLocation:\nSimCorp\nMonday May 6th 17:00 – 19:00 (Arrival from 16:30)\nWeidekampsgade 16\, 2300 København
URL:https://prowoc.org/event/pc-masterclass-in-thriving-in-danish-workplaces/
CATEGORIES:Activities,Career,Career Development,Events,Personal development,Professional development
ATTACH;FMTTYPE=image/png:https://prowoc.org/wp-content/uploads/2024/04/V3-Samarbejde-Karriereklubben-skabelon-1.png
END:VEVENT
BEGIN:VEVENT
DTSTART;TZID=Europe/Copenhagen:20240321T153000
DTEND;TZID=Europe/Copenhagen:20240321T190000
DTSTAMP:20260424T193556
CREATED:20240220T081909Z
LAST-MODIFIED:20240321T134218Z
UID:22205-1711035000-1711047600@prowoc.org
SUMMARY:ProWoc 5th Anniversary Celebration - Sold Out.
DESCRIPTION:SOLD OUT!\nJoin Us in Celebration\n🎉 ProWoc’s turns 5: Let’s Celebrate our community and progress in DEIB 🎉 \nIt’s with great joy and gratitude that we invite you to join us on the 21st of March\, 2024\, as we mark a significant milestone in our journey – ProWoc’s 5th Anniversary. We mark this occasion with a celebration of our achievements and a wider discourse on the evolution of DEIB. \nThis anniversary serves as a moment to honor the collective efforts of our community and acknowledge the impact we’ve had on the DEI Landscape. \nWe will hear thought provoking insights from DEIB experts and engage in discussion on the future of diversity\, particularly in a Danish context. \nSpeakers: Thandi Dyani\, Atiyo Muse\, Karoline Clerk\, Ifeoma Okpala\, Phaedria Marie St.Hilaire\, Selim Ablo Nielsen and many more \nLast day for late registration: 19 March\, 2024 \nHere’s to the next five years of ProWoc – a journey of empowerment\, diversity\, and inclusion. \nLocation: Hotel SKT. PETRI\, Krystalgade 22\, 1172 Copenhagen\, Denmark \nThis event is free for members. DKK250 for non members \nA fee of DKK 100 will be applied to members who fail to cancel their attendance within three days prior to the scheduled event date. \nRegistration ends at midnight\, 19 March \n\n✅ Event Program\n15:30 – 16:00 Guest Arrival + Registration\n16:00 – 16:15 Welcome & Introducing Keynote speaker\n16:15 – 16:45 Keynote speaker + Q&A\n16:45 – 17:15 Panel discussion\n17:15 – 17:30 Break\n17:30 – 18:00 ProWoc History Video | Award ceremony | Cake cutting\n18:00 – 18:10 Toast & Vote of thanks\n18:10 – 19:00 Networking + Food/Drinks + Entertainment \n  \n🎊 Thank you for joining us for our 5th Anniversary Celebration!
URL:https://prowoc.org/event/prowoc-at5-anniversary/
LOCATION:Skt Petri hotel\, Krystalgade 22\, Copenhagen\, 1172\, Denmark
CATEGORIES:Anniversary,Branding,Career,Diversity,Inclusion,Inspiring,Leadership,Personal Purpose,Professional development,Professional Women,TopWomen,Value
ATTACH;FMTTYPE=image/png:https://prowoc.org/wp-content/uploads/2024/02/PWat5-Anniversary-for-Event-page.png
END:VEVENT
BEGIN:VEVENT
DTSTART;TZID=Europe/Copenhagen:20231114T150000
DTEND;TZID=Europe/Copenhagen:20231114T200000
DTSTAMP:20260424T193556
CREATED:20231018T105716Z
LAST-MODIFIED:20231018T105716Z
UID:21429-1699974000-1699992000@prowoc.org
SUMMARY:ProWoc Conference Series Part 1
DESCRIPTION:ProWoc Conference Series Part 1\nFit for the Future: Embracing Diversity\, Technology & Sustainability –\nThe Workshop Experience\nThe Workshop Experience\nOur Conference series themed: “Fit for the future: Embracing Diversity\,Technology and Sustainability”\, will explore trends that are affecting the future of work through the lens of Diversity and Inclusion\, and equip companies\, groups and individuals with knowledge\, insights and tools that will help them prepare for and navigate future work environments. \nClick here to register. \nVisit ProWoc Conference Website for more information and to get to know our Speakers
URL:https://prowoc.org/event/prowoc-conference-series-part-1/
CATEGORIES:Career,Conference,Diversity,Events,Inclusion,Personal development,Personal Purpose,Professional development
ATTACH;FMTTYPE=image/png:https://prowoc.org/wp-content/uploads/2023/10/Conference-registration-Design-Instagram-post.png
END:VEVENT
END:VCALENDAR