BEGIN:VCALENDAR
VERSION:2.0
PRODID:-//ProWoc⎮Professional Women of Colour Network⎮Denmark - ECPv6.15.20//NONSGML v1.0//EN
CALSCALE:GREGORIAN
METHOD:PUBLISH
X-ORIGINAL-URL:https://prowoc.org
X-WR-CALDESC:Events for ProWoc⎮Professional Women of Colour Network⎮Denmark
REFRESH-INTERVAL;VALUE=DURATION:PT1H
X-Robots-Tag:noindex
X-PUBLISHED-TTL:PT1H
BEGIN:VTIMEZONE
TZID:Europe/Copenhagen
BEGIN:DAYLIGHT
TZOFFSETFROM:+0100
TZOFFSETTO:+0200
TZNAME:CEST
DTSTART:20210328T010000
END:DAYLIGHT
BEGIN:STANDARD
TZOFFSETFROM:+0200
TZOFFSETTO:+0100
TZNAME:CET
DTSTART:20211031T010000
END:STANDARD
BEGIN:DAYLIGHT
TZOFFSETFROM:+0100
TZOFFSETTO:+0200
TZNAME:CEST
DTSTART:20220327T010000
END:DAYLIGHT
BEGIN:STANDARD
TZOFFSETFROM:+0200
TZOFFSETTO:+0100
TZNAME:CET
DTSTART:20221030T010000
END:STANDARD
BEGIN:DAYLIGHT
TZOFFSETFROM:+0100
TZOFFSETTO:+0200
TZNAME:CEST
DTSTART:20230326T010000
END:DAYLIGHT
BEGIN:STANDARD
TZOFFSETFROM:+0200
TZOFFSETTO:+0100
TZNAME:CET
DTSTART:20231029T010000
END:STANDARD
END:VTIMEZONE
BEGIN:VEVENT
DTSTART;TZID=Europe/Copenhagen:20220307T173000
DTEND;TZID=Europe/Copenhagen:20220307T200000
DTSTAMP:20260425T181623
CREATED:20211223T091426Z
LAST-MODIFIED:20220307T132918Z
UID:11192-1646674200-1646683200@prowoc.org
SUMMARY:Breaking the Bias - a Celebration of Success
DESCRIPTION:*** Registration is now closed ***\n\n\n\nLocation: Weidekampsgade 6\, Copenhagen (Deloitte Denmark) \n\n\n\n\n\nWe have come far\, and it is time to celebrate! \n\n\n\nOn 7th of March 2022\, at 17:30 – 20:00\, we invite you to join us to mark International Womxn’s Day with the theme “Breaking the Bias: a Celebration of Success”. On this day\, we celebrate our progress despite knowing that we still have a long way to go to #breakthebias in our society. \n\n\n\nWe have invited several speakers. Mira C. Skadegard\, diversity expert and Assistant Professor at Aalborg University\, will start the evening of positive #breakthebias stories with her keynote speech.  Birgitte Baadegaard\, author of several books (like ‘ManiFEST for kvinder’)\, will lead a gross-generational open mic audience testimonials session \n\n\n\nBring your own story\, share with us – voice it here. We want to hear it all! \n\n\n\nWe will celebrate with bubbles\, appetizers\, and music. \n\n\n\nThe event is brought to you by Professional Women of Colour Network (ProWoc)\,  Professional Women’s Network (PWN Copenhagen)\, and Diversity Factor; and supported by Deloitte Denmark. \n\n\n\nWe hope to see you!
URL:https://prowoc.org/event/prowoc-iwd-2022/
LOCATION:Deloitte\, Weidekampsgade 6\, Copenhagen\, 2300\, Denmark
CATEGORIES:Career,Inclusion,Inspiring,International Women's Day,IWD,Leadership,Networking,Professional Women,Success,TopWomen
ATTACH;FMTTYPE=image/png:https://prowoc.org/wp-content/uploads/2021/12/IWD-Event-2022.png
END:VEVENT
END:VCALENDAR