BEGIN:VCALENDAR
VERSION:2.0
PRODID:-//ProWoc⎮Professional Women of Colour Network⎮Denmark - ECPv6.15.20//NONSGML v1.0//EN
CALSCALE:GREGORIAN
METHOD:PUBLISH
X-ORIGINAL-URL:https://prowoc.org
X-WR-CALDESC:Events for ProWoc⎮Professional Women of Colour Network⎮Denmark
REFRESH-INTERVAL;VALUE=DURATION:PT1H
X-Robots-Tag:noindex
X-PUBLISHED-TTL:PT1H
BEGIN:VTIMEZONE
TZID:Europe/Copenhagen
BEGIN:DAYLIGHT
TZOFFSETFROM:+0100
TZOFFSETTO:+0200
TZNAME:CEST
DTSTART:20190331T010000
END:DAYLIGHT
BEGIN:STANDARD
TZOFFSETFROM:+0200
TZOFFSETTO:+0100
TZNAME:CET
DTSTART:20191027T010000
END:STANDARD
BEGIN:DAYLIGHT
TZOFFSETFROM:+0100
TZOFFSETTO:+0200
TZNAME:CEST
DTSTART:20200329T010000
END:DAYLIGHT
BEGIN:STANDARD
TZOFFSETFROM:+0200
TZOFFSETTO:+0100
TZNAME:CET
DTSTART:20201025T010000
END:STANDARD
BEGIN:DAYLIGHT
TZOFFSETFROM:+0100
TZOFFSETTO:+0200
TZNAME:CEST
DTSTART:20210328T010000
END:DAYLIGHT
BEGIN:STANDARD
TZOFFSETFROM:+0200
TZOFFSETTO:+0100
TZNAME:CET
DTSTART:20211031T010000
END:STANDARD
BEGIN:DAYLIGHT
TZOFFSETFROM:+0100
TZOFFSETTO:+0200
TZNAME:CEST
DTSTART:20220327T010000
END:DAYLIGHT
BEGIN:STANDARD
TZOFFSETFROM:+0200
TZOFFSETTO:+0100
TZNAME:CET
DTSTART:20221030T010000
END:STANDARD
BEGIN:DAYLIGHT
TZOFFSETFROM:+0100
TZOFFSETTO:+0200
TZNAME:CEST
DTSTART:20230326T010000
END:DAYLIGHT
BEGIN:STANDARD
TZOFFSETFROM:+0200
TZOFFSETTO:+0100
TZNAME:CET
DTSTART:20231029T010000
END:STANDARD
BEGIN:DAYLIGHT
TZOFFSETFROM:+0100
TZOFFSETTO:+0200
TZNAME:CEST
DTSTART:20240331T010000
END:DAYLIGHT
BEGIN:STANDARD
TZOFFSETFROM:+0200
TZOFFSETTO:+0100
TZNAME:CET
DTSTART:20241027T010000
END:STANDARD
BEGIN:DAYLIGHT
TZOFFSETFROM:+0100
TZOFFSETTO:+0200
TZNAME:CEST
DTSTART:20250330T010000
END:DAYLIGHT
BEGIN:STANDARD
TZOFFSETFROM:+0200
TZOFFSETTO:+0100
TZNAME:CET
DTSTART:20251026T010000
END:STANDARD
BEGIN:DAYLIGHT
TZOFFSETFROM:+0100
TZOFFSETTO:+0200
TZNAME:CEST
DTSTART:20260329T010000
END:DAYLIGHT
BEGIN:STANDARD
TZOFFSETFROM:+0200
TZOFFSETTO:+0100
TZNAME:CET
DTSTART:20261025T010000
END:STANDARD
END:VTIMEZONE
BEGIN:VEVENT
DTSTART;TZID=Europe/Copenhagen:20250919T120000
DTEND;TZID=Europe/Copenhagen:20250920T160000
DTSTAMP:20260424T140806
CREATED:20250701T095710Z
LAST-MODIFIED:20250818T135116Z
UID:26070-1758283200-1758384000@prowoc.org
SUMMARY:International Citizen Day – Sept. 19 & 20
DESCRIPTION:19 – 20 September 2024 | Friday 12:00 – 16:00 | Saturday 10:00 – 15:00 | Location: Øksnehallen\, Halmtorvet 11\, 1700 Copenhagen \nFor the sixth year\, ProWoc will participate in International Citizen’s Day\, a welcoming event for newcomers to Denmark. At the event\, you will find inspiration on the job\, career\, social life\, etc through a carefully curated fair together with talks\, debates\, and different activities. Show up to meet ProWoc for the first time or to learn more about the organization in a F2F meeting. Share the event with your friends and colleagues. \nIf you would like to volunteer please fill in the RSVP to register to volunteer.\nInstructions: Add the day and time slot next to your name. (Example: Full Name – Day: 19th\, Time: 13:00 – 15:00) \n \nLet’s us know you’re attending. It’s Free to Sign up.
URL:https://prowoc.org/event/icd-sept-19-20/
LOCATION:Øksnehallen\, Halmtorvet 11\, Copenhagen\, 1700
CATEGORIES:ICD,International Citizen Days
ATTACH;FMTTYPE=image/png:https://prowoc.org/wp-content/uploads/2025/07/image001-scaled.png
END:VEVENT
BEGIN:VEVENT
DTSTART;TZID=Europe/Copenhagen:20240927T140000
DTEND;TZID=Europe/Copenhagen:20240928T180000
DTSTAMP:20260424T140806
CREATED:20210827T032746Z
LAST-MODIFIED:20240922T133509Z
UID:8840-1727445600-1727546400@prowoc.org
SUMMARY:International Citizen Day - Sept. 27 & 28
DESCRIPTION:27-28 September 2024 | Friday 12:00 – 16:00 | Saturday 10:00 – 15:00 \nFor the fifth year\, ProWoc will participate in International Citizen’s Day\, a welcoming event for newcomers to Denmark. At the event\, you will find inspiration on the job\, career\, social life\, etc through a carefully curated fair together with talks\, debates\, and different activities. Show up to meet ProWoc for the first time or to learn more about the organization in a F2F meeting. Share the event with your friends and colleagues. \nLet’s us know you’re attending.  It’s Free to Sign up. \n 
URL:https://prowoc.org/event/icd2024-sept/
LOCATION:Øksnehallen\, Halmtorvet 11\, Copenhagen\, 1700
CATEGORIES:ICD,International Citizen Days,Networking,Social
ATTACH;FMTTYPE=image/png:https://prowoc.org/wp-content/uploads/2021/08/Web-920x544-1.png
END:VEVENT
BEGIN:VEVENT
DTSTART;TZID=Europe/Copenhagen:20200919T190000
DTEND;TZID=Europe/Copenhagen:20200919T210000
DTSTAMP:20260424T140806
CREATED:20200819T160828Z
LAST-MODIFIED:20200919T063538Z
UID:2094-1600542000-1600549200@prowoc.org
SUMMARY:ProMeet at International Citizen Days (ICD)
DESCRIPTION:All are welcome.\nPlease join us at Bryggens Spisehus for our ProMeet event. Come out and network with other women and begin to expand your professional network.\n*Please be aware that masks are required before entering the restaurant. \nPlease confirm your participation for ‘ProMeet International Citizen Days’ by registering below for the event. \n(All registered users will receive an email on 18.9 with an invitation to participate in the event on Saturday 19th.) \n[erforms id=”2101″]
URL:https://prowoc.org/event/promeet-at-international-citizens-day-icd/
LOCATION:Bryggens Spisehus\, Islands Brygge 18\, Copenhagen\, 2300\, Denmark
CATEGORIES:Activities,Events,International Citizen Days,Networking,Social
ATTACH;FMTTYPE=image/png:https://prowoc.org/wp-content/uploads/2020/08/ProWoc-ICD-IRL-1-1.png
END:VEVENT
BEGIN:VEVENT
DTSTART;TZID=Europe/Copenhagen:20200916T200000
DTEND;TZID=Europe/Copenhagen:20200916T220000
DTSTAMP:20260424T140806
CREATED:20200907T111205Z
LAST-MODIFIED:20200916T140630Z
UID:2313-1600286400-1600293600@prowoc.org
SUMMARY:ProWoc at International Citizen Days (ICD): Webinar
DESCRIPTION:Join our webinar! ProWoc at ICD\nLink to join: https://zoom.us/j/91805745491#success or visit https://www.icdays.dk/booths and select ‘Professional Women of Colour’ ProWoc. \nProWoc invites you to attend its virtual booth at International Citizen Days 2020. We bring you the necessary three separate presentations that are aimed at helping you navigate the job market and achieving your professional goals. Keep an eye out for the link to the webinars coming soon! \nCheck out the webinars here: \n16 SEP – 18:00 – 18:15 \nGrow your professional network in Denmark \n16 SEP – 18:20 – 18:35 \nStrengthen your career in Denmark \n16 SEP – 18:40 – 18:55 \nUnleash your potential through our tailor-made mentoring programme \n16 SEP – 19:00 – 19:15 \nGrow your professional network in Denmark \n16 SEP – 19:20 – 19:35 \nStrengthen your career in Denmark \n16 SEP – 19:40 – 20:00 \nUnleash your full potential through our tailor-made mentoring programme  \nClick the link to our event – register & join us! \nPlease confirm your participation by registering below for the event.\n[erforms id=”2323″]
URL:https://prowoc.org/event/promeet-at-international-citizens-day-icd-2/
CATEGORIES:ICD,International Citizen Days,Networking,ProConnect
ATTACH;FMTTYPE=image/png:https://prowoc.org/wp-content/uploads/2020/09/ProWoc-ICD-Webinar-1.png
END:VEVENT
END:VCALENDAR