BEGIN:VCALENDAR
VERSION:2.0
PRODID:-//ProWoc⎮Professional Women of Colour Network⎮Denmark - ECPv6.15.20//NONSGML v1.0//EN
CALSCALE:GREGORIAN
METHOD:PUBLISH
X-WR-CALNAME:ProWoc⎮Professional Women of Colour Network⎮Denmark
X-ORIGINAL-URL:https://prowoc.org
X-WR-CALDESC:Events for ProWoc⎮Professional Women of Colour Network⎮Denmark
REFRESH-INTERVAL;VALUE=DURATION:PT1H
X-Robots-Tag:noindex
X-PUBLISHED-TTL:PT1H
BEGIN:VTIMEZONE
TZID:Europe/Copenhagen
BEGIN:DAYLIGHT
TZOFFSETFROM:+0100
TZOFFSETTO:+0200
TZNAME:CEST
DTSTART:20200329T010000
END:DAYLIGHT
BEGIN:STANDARD
TZOFFSETFROM:+0200
TZOFFSETTO:+0100
TZNAME:CET
DTSTART:20201025T010000
END:STANDARD
BEGIN:DAYLIGHT
TZOFFSETFROM:+0100
TZOFFSETTO:+0200
TZNAME:CEST
DTSTART:20210328T010000
END:DAYLIGHT
BEGIN:STANDARD
TZOFFSETFROM:+0200
TZOFFSETTO:+0100
TZNAME:CET
DTSTART:20211031T010000
END:STANDARD
BEGIN:DAYLIGHT
TZOFFSETFROM:+0100
TZOFFSETTO:+0200
TZNAME:CEST
DTSTART:20220327T010000
END:DAYLIGHT
BEGIN:STANDARD
TZOFFSETFROM:+0200
TZOFFSETTO:+0100
TZNAME:CET
DTSTART:20221030T010000
END:STANDARD
BEGIN:DAYLIGHT
TZOFFSETFROM:+0100
TZOFFSETTO:+0200
TZNAME:CEST
DTSTART:20230326T010000
END:DAYLIGHT
BEGIN:STANDARD
TZOFFSETFROM:+0200
TZOFFSETTO:+0100
TZNAME:CET
DTSTART:20231029T010000
END:STANDARD
END:VTIMEZONE
BEGIN:VEVENT
DTSTART;TZID=Europe/Copenhagen:20220317T173000
DTEND;TZID=Europe/Copenhagen:20220317T203000
DTSTAMP:20260425T161700
CREATED:20211223T072343Z
LAST-MODIFIED:20220309T115927Z
UID:11162-1647538200-1647549000@prowoc.org
SUMMARY:ProWoc Masterclass - CV Workshop 1
DESCRIPTION:Tailored for the Nordic job market\n\n\n\n\n\n\n\n\n\nProWoc offers this two-part workshop in partnership with Unique Human Capital\, a leading human capital consulting firm and recruitment agency in Denmark. \n\n\n\nYour preparation Workshop part one\n\n\n\nTo participate on the day\, please bring your current CV in physical form (1 copy) as well as a business card.Open the CV template and start filling in your personal data\, belonging to the headlines in the template.Prepare your elevator pitch\, maximum 1 minute\, and present it.\n\n\n\nONLY 12 SEATS AVAILABLE – tickets will be issued on a first-come-first-served basis. \n\n\n\nRegistration closes at midnight Thursday\, March 10\, 2022. \n\n\n\nThe participation cost for workshop one:\n\n\n\nMembers: 100 DKKNon- Members 250 DKK\n\n\n\nCost includes a light meal and a drink.  \n\n\n\nNB! This Masterclass has two parts and registration for this event guarantees you a spot in the follow-up workshop on June 3\, 2022. \n\n\n\n\n\n\n\nClick here to sign up and purchase
URL:https://prowoc.org/event/cv-workshop-2022/
LOCATION:Unique Human Capital A/S\, Jægersborg Alle 4\, Charlottenlund\, 2920\, Denmark
CATEGORIES:Career Development,Events,Influence,Inspiring,Leadership,Masterclass,Mentoring
ATTACH;FMTTYPE=image/png:https://prowoc.org/wp-content/uploads/2021/12/PW-CVworkshop-New-date.png
END:VEVENT
BEGIN:VEVENT
DTSTART;TZID=Europe/Copenhagen:20220120T170000
DTEND;TZID=Europe/Copenhagen:20220120T190000
DTSTAMP:20260425T161700
CREATED:20211222T182629Z
LAST-MODIFIED:20220106T142844Z
UID:11148-1642698000-1642705200@prowoc.org
SUMMARY:How to communicate your personal brand
DESCRIPTION:If you are job searching or just trying to build your credibility in the marketplace\, then it’s crucial that what you post in the public domain reflects well on you. As soon as you have shared anything on social media\, you have launched your personal brand! You need to control it and build your brand in an effective way. \n\n\n\nJoin Leslea Petersen\, Director of English Job Denmark\, as she guides us in creating a standout profile that will aid employment and increase visibility to hiring managers. Leslea will share why it’s important to build credibility and some common mistakes to avoid. \n\n\n\nLeslea will also share how to communicate in an interview in Denmark\, share your ‘elevator pitch’\, and how to ask relevant questions. \n\n\n\n\n\n\n\n\n\n\n\nAbout Leslea Petersen\n\n\n\nA Brit married to a Viking who landed on Danish shores 14 years ago\, Leslea is the communications director of English Job Denmark. With over 20 years’ communications experience in both the business & not-for-profit sectors\, Leslea is passionate about coaching professionals to land the job of their dreams. \n\n\n\nAbout English Job Denmark\n\n\n\nThe aim at English Job Denmark has always been to support internationals in Denmark. With many years of living and working in Denmark\, this team of professionals has experienced first-hand how difficult and unforgiving the employment market can be for foreigners. English Job Denmark was launched to meet that need and is fast becoming the first choice for internationals in their search for support and advice navigating the Danish job market. \n\n\n\nJoin Leslea Petersen\, Director of English Job Denmark\, in this masterclass on how to create a standout profile that will aid employment and increase visibility to hiring managers. Leslea will share why it’s important to build credibility and some common mistakes to avoid. \n\n\n\n\n\n\n\nClick here to sign up and purchase \n\n\n\n\n\n\n\nPlease remember to add this event to your personal calendar: January 20 @ 5:00 pm – 7:00 pm.
URL:https://prowoc.org/event/personalbrand/
CATEGORIES:Branding,Career,Impact,Influence,Networking,Personal Purpose,Professional Women,Social,Success,Virtual event
ATTACH;FMTTYPE=image/png:https://prowoc.org/wp-content/uploads/2021/12/ProWoc-ProConnect-PersonalBranding.png
ORGANIZER;CN="Career and Personal Development Committee":MAILTO:mcdp@prowoc.org
END:VEVENT
BEGIN:VEVENT
DTSTART;TZID=Europe/Copenhagen:20210924T180000
DTEND;TZID=Europe/Copenhagen:20210924T220000
DTSTAMP:20260425T161700
CREATED:20210827T060938Z
LAST-MODIFIED:20210827T063925Z
UID:8908-1632506400-1632520800@prowoc.org
SUMMARY:International Citizen’s Day - Two Day event
DESCRIPTION:Friday\, September 24th\, 16:00 – 20:00 and  \n\n\n\nSaturday\, September 25th 10:00 – 15:00\n\n\n\n\n\n\n\nFor the third year\, ProWoc will participate in International Citizen’s Day\, a welcoming event for newcomers to Denmark. At the event\, you will find inspiration on job\, career\, social life\, etc through a carefully curated fair together with talks\, debates\, and different activities.  \n\n\n\nShow up to meet ProWoc for the first time or to learn more about the organization in a F2F meeting.  \n\n\n\nShare the event with your friends and colleagues. Watch this space for more info. \n\n\n\n\n\n\n\n\nSign up for ICD here
URL:https://prowoc.org/event/icd/
CATEGORIES:Activities,ICD,Influence,Leadership,Networking
ATTACH;FMTTYPE=image/jpeg:https://prowoc.org/wp-content/uploads/2021/08/ICD.jpg
END:VEVENT
BEGIN:VEVENT
DTSTART;TZID=Europe/Copenhagen:20210819T190000
DTEND;TZID=Europe/Copenhagen:20210819T210000
DTSTAMP:20260425T161700
CREATED:20210808T024252Z
LAST-MODIFIED:20210824T164705Z
UID:5408-1629399600-1629406800@prowoc.org
SUMMARY:Food For Thought with Dr. Phaedria Marie St. Hilaire at Crossing Borders
DESCRIPTION:Crossing Borders welcomes the inspiring Dr. Phaedria Marie St. Hilaire.\n\n\n\nCrossing Borders with Phaedria St Hilaire\n\n\n\nOur next Food For Thought event is up\, join us on August 19th to hear the story of the inspiring Dr. Phaedria Marie St. Hilaire. Dr. Phaedria Marie St. Hilaire is a Dominican-born Science Business Leader with over 20 years of experience in the biotech and pharmaceutical industry. She has a proven track record of inspiring and driving multicultural teams to deliver results in her previous leadership positions at Carlsberg and at Novo Nordisk. Phaedria has over 45 publications and patent applications. Phaedria is passionate about diversity and inclusion and influencing the gender and race narrative. She is a co-founder and current President of ProWoc\, a non-profit organization that provides a platform for women of colour in Denmark to connect\, grow\, evolve\, and affect change in the world around them. She believes in continuous learning\, self-reflection\, and reinvention and is a mentor and coach. She enjoys pushing mental and physical boundaries and being out of her comfort zone. She has recently successfully climbed Mt. Kilimanjaro (2019) and completed a Marathon (2021). She lives in Copenhagen\, Denmark with her husband and son. \n\n\n\nPhoto credit: Walther Bølge. \n\n\n\n \n\n\n\nThere are only 25 seats open\, is yours one of them?  \n\n\n\nYou can book your ticket now\, and remember if you are a member of Crossing Borders you can come for free.  \n\n\n\n\nClick here to read more about the event\n\n\n\n\n\nBook your ticket here ( 30 – 60 DKK plus fee )\n\n\n\n\n!! Please remember that you have to show a Corona pass at the door\, that could be a recent test\, a vaccine\, or proof that you had Covid19 in the last 6 months.
URL:https://prowoc.org/event/food-for-thought-with-dr-phaedria-marie-st-hilaire-at-crossing-borders/
LOCATION:Crossing Borders\, Købmagergade 13\, Copenhagen\, 1150\, Denmark
CATEGORIES:Career Development,Diversity,Influence,Leadership,Mentoring
ATTACH;FMTTYPE=image/jpeg:https://prowoc.org/wp-content/uploads/2021/08/Crossing-Borders-with-Phaedria-St-Hilaire.jpg
END:VEVENT
BEGIN:VEVENT
DTSTART;TZID=Europe/Copenhagen:20210220T113000
DTEND;TZID=Europe/Copenhagen:20210220T133000
DTSTAMP:20260425T161700
CREATED:20210210T134139Z
LAST-MODIFIED:20210905T065942Z
UID:3876-1613820600-1613827800@prowoc.org
SUMMARY:ProConnect with Carice Anderson
DESCRIPTION: \n\nCOMPETITION ALERT!\nWe are excited to be hosting the first-ever ProConnect of 2021. We bring you updates from ProWoc and its members besides having a very special guest – Carice Anderson. Enter the competition to win a copy of Carice’s book: Intelligence Isn’t Enough: A Black Professional’s Guide to Thriving in the Workplace.\n\nRegister on or before 15 Feb 2021 to be eligible to participate in a draw. Two lucky winners will get a mystery prize!\n\n\nPAYMENT:\nMembers: free\n\nNon- members: DKK 50\n\nLearn more about Carice\n\nCarice is a seasoned professional who is passionate about entrepreneurship\, empowering people\, growing leaders\, helping people identify and operate in their strengths\, and working with organizations to improve trust and impact. She believes that leadership of self\, others\, and organisations is the answer to all of the challenges and opportunities in the world today.\n\nCarice is the author of Intelligence Isn’t Enough: A Black Professional’s Guide to Thriving in the Workplace. The book is published by Jonathan Ball Publishers and it is a career advice manual for young black professionals. It has been endorsed by Celiwe Ross\, Human Capital Director for Old Mutual\, one of the oldest and most respected pan-African companies.\n\nWe look forward to welcoming you to this special edition of ProConnect. Register today!\n\n \n\nThe electronic version of the ‘Intelligence Isn’t Enough: A Black Professional’s Guide to Thriving in the Workplace’\, is already available on Amazon for a discounted pre-order price so please grab your copy now.
URL:https://prowoc.org/event/proconnect-canderson/
CATEGORIES:Career Development,Influence,Mentoring,Networking,Personal Purpose,ProConnect,Virtual event
ATTACH;FMTTYPE=image/png:https://prowoc.org/wp-content/uploads/2021/02/Pro-Connect-Carice-Anderson.png
END:VEVENT
BEGIN:VEVENT
DTSTART;TZID=Europe/Copenhagen:20210121T180000
DTEND;TZID=Europe/Copenhagen:20210121T200000
DTSTAMP:20260425T161700
CREATED:20210108T162553Z
LAST-MODIFIED:20210210T135749Z
UID:3627-1611252000-1611259200@prowoc.org
SUMMARY:ProWoc invites you to our first Exclusive Conversations for 2021
DESCRIPTION:Our guest is Chandre Torpet\, who is Chief Inclusion Officer at Inclusive Matters. She will provide us with a tool kit on how to 1) Know our Influence and 2) Know our Value and how we can use those tools in our daily professional lives. \n\n\n\nThe event is virtual and limited to 40 people in order to enable close interactions with Chandre. Hurry and save your spot. \n\n\n\nRegister below no later than January 17. The participation fee (50 – 100 DKk) is payable by MobilePay (247033) upon registration. \n\n\n\nIf you have questions for Chandre\, you may send them before the event by writing them in the comment field when registering. \n\n\n\nProWoc members will be prioritized. \n\n\n\nRegister today and join us for an exclusive evening with Chandre! \n\n\n\n\n\n\n\n\n\n\n\n\n\n\n \n\n\n\n \n\n\n\n \n\n\n\n\n\n\n 
URL:https://prowoc.org/event/ec-chandretorpet/
CATEGORIES:Career Development,Influence,Professional Women,Tools,Value
ATTACH;FMTTYPE=image/png:https://prowoc.org/wp-content/uploads/2021/01/ProWoc-Exclusive-Conversations-Chandre-Torpet-.png
END:VEVENT
END:VCALENDAR