BEGIN:VCALENDAR
VERSION:2.0
PRODID:-//ProWoc⎮Professional Women of Colour Network⎮Denmark - ECPv6.15.20//NONSGML v1.0//EN
CALSCALE:GREGORIAN
METHOD:PUBLISH
X-WR-CALNAME:ProWoc⎮Professional Women of Colour Network⎮Denmark
X-ORIGINAL-URL:https://prowoc.org
X-WR-CALDESC:Events for ProWoc⎮Professional Women of Colour Network⎮Denmark
REFRESH-INTERVAL;VALUE=DURATION:PT1H
X-Robots-Tag:noindex
X-PUBLISHED-TTL:PT1H
BEGIN:VTIMEZONE
TZID:Europe/Copenhagen
BEGIN:DAYLIGHT
TZOFFSETFROM:+0100
TZOFFSETTO:+0200
TZNAME:CEST
DTSTART:20190331T010000
END:DAYLIGHT
BEGIN:STANDARD
TZOFFSETFROM:+0200
TZOFFSETTO:+0100
TZNAME:CET
DTSTART:20191027T010000
END:STANDARD
BEGIN:DAYLIGHT
TZOFFSETFROM:+0100
TZOFFSETTO:+0200
TZNAME:CEST
DTSTART:20200329T010000
END:DAYLIGHT
BEGIN:STANDARD
TZOFFSETFROM:+0200
TZOFFSETTO:+0100
TZNAME:CET
DTSTART:20201025T010000
END:STANDARD
BEGIN:DAYLIGHT
TZOFFSETFROM:+0100
TZOFFSETTO:+0200
TZNAME:CEST
DTSTART:20210328T010000
END:DAYLIGHT
BEGIN:STANDARD
TZOFFSETFROM:+0200
TZOFFSETTO:+0100
TZNAME:CET
DTSTART:20211031T010000
END:STANDARD
BEGIN:DAYLIGHT
TZOFFSETFROM:+0100
TZOFFSETTO:+0200
TZNAME:CEST
DTSTART:20220327T010000
END:DAYLIGHT
BEGIN:STANDARD
TZOFFSETFROM:+0200
TZOFFSETTO:+0100
TZNAME:CET
DTSTART:20221030T010000
END:STANDARD
BEGIN:DAYLIGHT
TZOFFSETFROM:+0100
TZOFFSETTO:+0200
TZNAME:CEST
DTSTART:20230326T010000
END:DAYLIGHT
BEGIN:STANDARD
TZOFFSETFROM:+0200
TZOFFSETTO:+0100
TZNAME:CET
DTSTART:20231029T010000
END:STANDARD
BEGIN:DAYLIGHT
TZOFFSETFROM:+0100
TZOFFSETTO:+0200
TZNAME:CEST
DTSTART:20240331T010000
END:DAYLIGHT
BEGIN:STANDARD
TZOFFSETFROM:+0200
TZOFFSETTO:+0100
TZNAME:CET
DTSTART:20241027T010000
END:STANDARD
BEGIN:DAYLIGHT
TZOFFSETFROM:+0100
TZOFFSETTO:+0200
TZNAME:CEST
DTSTART:20250330T010000
END:DAYLIGHT
BEGIN:STANDARD
TZOFFSETFROM:+0200
TZOFFSETTO:+0100
TZNAME:CET
DTSTART:20251026T010000
END:STANDARD
END:VTIMEZONE
BEGIN:VEVENT
DTSTART;TZID=Europe/Copenhagen:20240622T100000
DTEND;TZID=Europe/Copenhagen:20240622T120000
DTSTAMP:20260424T133146
CREATED:20240604T031935Z
LAST-MODIFIED:20240604T140545Z
UID:22706-1719050400-1719057600@prowoc.org
SUMMARY:ProConnect: Annual General Meeting and Board Elections
DESCRIPTION:Dear All\,\nYou are cordially invited to the Prowoc Annual General meeting and board elections on Saturday June 22\, 2024. The event will be immediately followed by our annual social by the seaside event (register here). \n\nAnnual General meeting Saturday 22 June from 10:00 – 11:30 | Virtual | link will be provided in confirmation email following registration\nSocial by the Seaside Saturday 22 June from 15:00 – 19:00\n\nSeaside Venue – Seaside Toldboden\, Nordre Toldbod 18-24\, 1259 København\n\n\n\nAGM Agenda\n\nThe Board of Directors/President report\nPresentation and approval of financial statements and budget\nDiscussion of ideas and proposals received\nElection of board members\n\nNomination of Board members: Nomination are open from June 4 to June 14\,2024\n\n\n\nProWoc Elections:\nDo you or someone you know aspire to take on a critical organizational leadership role within the Prowoc community? The Prowoc board seeks nominations for candidates for 4 board roles: \n\nTreasurer\nSponsorship & Liaison\nCommunication & Visibility and\nSecretariat\n\nA brief description of each role is included in the nomination form (click here) to help guide your nomination. \nPlease send your nominations no later than – 12PM CET on Friday June 14\,2024.\n*If you wish to submit more than one nomination kindly submit a form for each one. \nWHO CAN BE NOMINATED? \nAny paid ProWoc member who is part of the network during the year that nominations are held is eligible to stand\nYou can nominate yourself for any of these as well as any other ProWoc members or qualified individuals* within your network\n*Qualified individuals who are not yet ProWoc members must agree to subscribe to ProWoc annual membership if they are elected. \nHOW DO I SUBMIT A NOMINATION? \nTo Submit a nomination\, please complete the form accessible by clicking here. \nThe ProWoc Board will review all nominations and share a list of nominated candidates with ProWoc members via email by Wednesday June 19 2023. Voting will take place in real time during the annual general meeting on Saturday June 22 from 10:00 – 12:00. \nFor questions or clarification please contact the ProWoc Board at prowocboard@prowoc.org. \nThank you for your participation in this important process which is an essential part of our operation as a non-profit organization with a mission to build a strong network of Professional women of Colour in Denmark. \nKind regards\, \nIfeoma Okpala\,\nPresident \nOn behalf of the ProWoc Board \nThis event is free for members and non-members. Kindly refer to our website for membership options/prices – https://prowoc.org/membership/\nPlease register below\, for both yourself and your guest(s). \nThank you\,\nThe ProWoc Team \n\n» Click here to also register for Social by Seaside at Toldboden – Sat. 22 June\, 2023 @ 15:00
URL:https://prowoc.org/event/pc-agm-boardelections-2024/
LOCATION:Zoom\, Denmark
CATEGORIES:AGM,General meeting,Leadership,Networking,ProMeet
ATTACH;FMTTYPE=image/png:https://prowoc.org/wp-content/uploads/2024/06/Annual-General-Meeting-22-June-2024-1.png
END:VEVENT
BEGIN:VEVENT
DTSTART;TZID=Europe/Copenhagen:20200822T120000
DTEND;TZID=Europe/Copenhagen:20200822T143000
DTSTAMP:20260424T133146
CREATED:20200227T064348Z
LAST-MODIFIED:20200819T060625Z
UID:1409-1598097600-1598106600@prowoc.org
SUMMARY:ProWoc ProConnect Virtual General Meeting - 22 August
DESCRIPTION:ProWoc invites you to join us for ProConnect on Saturday 22 August 2020 (10:00-12:30) – a virtual replacement of our general meetings until further notice.\nThe meeting agenda includes: \n– A fun networking element\, so don’t be shy and be creative! 🙂\n– A showcase of the exciting activities that we have planned for you in the remainder of 2020\n– The return of our popular ‘Her Story’ segment and much more \nThis event is free for gold and silver members. For bronze members\, or those interested in joining\, kindly refer to our website for membership options/prices – https://prowoc.org/member/. Please ensure you have paid before the meeting. \nBronze members: 75 Dkk via mobile pay 247033\nGuests: 100 Dkk via mobile pay 247033 \nIt would be great if you could indicate your attendance by RSVP to the Google Invite previously sent. \nWe look forward to connecting with you virtually!
URL:https://prowoc.org/event/prowoc-general-meeting-22-august/
CATEGORIES:General meeting,Networking
ATTACH;FMTTYPE=image/jpeg:https://prowoc.org/wp-content/uploads/2020/02/ProWoc_ladies-talking.jpg
END:VEVENT
BEGIN:VEVENT
DTSTART;TZID=Europe/Copenhagen:20200613T120000
DTEND;TZID=Europe/Copenhagen:20200613T143000
DTSTAMP:20260424T133146
CREATED:20200518T132419Z
LAST-MODIFIED:20200518T133344Z
UID:1866-1592049600-1592058600@prowoc.org
SUMMARY:ProWoc - ProConnect Networking Meeting
DESCRIPTION:ProWoc invites you to join us for ProConnect – a virtual general meeting to connect and network. \nThis event is open to all\, whether you are a ProWoc member or not. So we welcome you to take the opportunity to connect with us virtually. \n–> Contact us if you would like a Zoom invite to ProConnect.
URL:https://prowoc.org/event/proconnect-networking-meeting/
CATEGORIES:Career,General meeting,Networking
END:VEVENT
BEGIN:VEVENT
DTSTART;TZID=Europe/Copenhagen:20200516T123000
DTEND;TZID=Europe/Copenhagen:20200516T140000
DTSTAMP:20260424T133146
CREATED:20200506T125213Z
LAST-MODIFIED:20200508T153637Z
UID:1827-1589632200-1589637600@prowoc.org
SUMMARY:ProWoc - ProConnect Meeting
DESCRIPTION:ProWoc invites you to join us for ProConnect – a virtual general meeting to connect and network \nThe meeting agenda includes: \n– A fun networking element\, so don’t be shy and be creative! 🙂 \n– A showcase of the exciting virtual activities that we have planned for you in 2020 \n– ‘ProWise’: A group discussion on a topic of professional relevance \nThis event is open to all\, whether you are a ProWoc member or not. So we welcome you to take the opportunity to connect with us virtually. \n–> Contact us if you would like a Zoom invite to ProConnect.
URL:https://prowoc.org/event/proconnect-meeting/
CATEGORIES:Activities,General meeting,Networking
END:VEVENT
BEGIN:VEVENT
DTSTART;TZID=Europe/Copenhagen:20200501T120000
DTEND;TZID=Europe/Copenhagen:20200501T140000
DTSTAMP:20260424T133146
CREATED:20200413T060845Z
LAST-MODIFIED:20200413T061016Z
UID:1790-1588334400-1588341600@prowoc.org
SUMMARY:May Annual General Meeting and Board Elections - Postponed (new date TBD)
DESCRIPTION:Due to the Coronavirus outbreak\, the ProWoc Board of Directors has decided to postpone the Annual General Meeting (AGM) and Board Elections which were scheduled to be held in May 2020\, to a later date in 2020. We will provide timely notice regarding the new AGM and Board Elections date as the health situation develops.
URL:https://prowoc.org/event/may-annual-general-meeting-and-board-elections-postponed-new-date-tbd/
CATEGORIES:Activities,General meeting
END:VEVENT
BEGIN:VEVENT
DTSTART;TZID=Europe/Copenhagen:20200404T120000
DTEND;TZID=Europe/Copenhagen:20200404T143000
DTSTAMP:20260424T133146
CREATED:20200226T170702Z
LAST-MODIFIED:20200316T080755Z
UID:1313-1586001600-1586010600@prowoc.org
SUMMARY:ProWoc General Meeting - General meeting - postponed until further notice!
DESCRIPTION:Attention!\n“Due to the Coronavirus situation and guidance from the authorities\, ProWoc is canceling or postponing some of our member events until further notice. Please see the specific event for more information and kindly check back frequently for new details. We look forward to seeing you at one of our events in the future.”
URL:https://prowoc.org/event/prowoc-general-meeting/
CATEGORIES:General meeting,Networking
ATTACH;FMTTYPE=image/jpeg:https://prowoc.org/wp-content/uploads/2020/02/ProWocMtg-networking.jpg
END:VEVENT
END:VCALENDAR