BEGIN:VCALENDAR
VERSION:2.0
PRODID:-//ProWoc⎮Professional Women of Colour Network⎮Denmark - ECPv6.15.20//NONSGML v1.0//EN
CALSCALE:GREGORIAN
METHOD:PUBLISH
X-ORIGINAL-URL:https://prowoc.org
X-WR-CALDESC:Events for ProWoc⎮Professional Women of Colour Network⎮Denmark
REFRESH-INTERVAL;VALUE=DURATION:PT1H
X-Robots-Tag:noindex
X-PUBLISHED-TTL:PT1H
BEGIN:VTIMEZONE
TZID:Europe/Copenhagen
BEGIN:DAYLIGHT
TZOFFSETFROM:+0100
TZOFFSETTO:+0200
TZNAME:CEST
DTSTART:20230326T010000
END:DAYLIGHT
BEGIN:STANDARD
TZOFFSETFROM:+0200
TZOFFSETTO:+0100
TZNAME:CET
DTSTART:20231029T010000
END:STANDARD
BEGIN:DAYLIGHT
TZOFFSETFROM:+0100
TZOFFSETTO:+0200
TZNAME:CEST
DTSTART:20240331T010000
END:DAYLIGHT
BEGIN:STANDARD
TZOFFSETFROM:+0200
TZOFFSETTO:+0100
TZNAME:CET
DTSTART:20241027T010000
END:STANDARD
BEGIN:DAYLIGHT
TZOFFSETFROM:+0100
TZOFFSETTO:+0200
TZNAME:CEST
DTSTART:20250330T010000
END:DAYLIGHT
BEGIN:STANDARD
TZOFFSETFROM:+0200
TZOFFSETTO:+0100
TZNAME:CET
DTSTART:20251026T010000
END:STANDARD
BEGIN:DAYLIGHT
TZOFFSETFROM:+0100
TZOFFSETTO:+0200
TZNAME:CEST
DTSTART:20260329T010000
END:DAYLIGHT
BEGIN:STANDARD
TZOFFSETFROM:+0200
TZOFFSETTO:+0100
TZNAME:CET
DTSTART:20261025T010000
END:STANDARD
BEGIN:DAYLIGHT
TZOFFSETFROM:+0100
TZOFFSETTO:+0200
TZNAME:CEST
DTSTART:20270328T010000
END:DAYLIGHT
BEGIN:STANDARD
TZOFFSETFROM:+0200
TZOFFSETTO:+0100
TZNAME:CET
DTSTART:20271031T010000
END:STANDARD
END:VTIMEZONE
BEGIN:VEVENT
DTSTART;TZID=Europe/Copenhagen:20260218T170000
DTEND;TZID=Europe/Copenhagen:20260218T200000
DTSTAMP:20260424T002645
CREATED:20260127T174503Z
LAST-MODIFIED:20260217T124714Z
UID:27616-1771434000-1771444800@prowoc.org
SUMMARY:Exclusive Conversation with Jandara Smith: Leadership beyond the Job Title
DESCRIPTION:ProWoc Exclusive Conversation with Jandara Smith\n✨Leadership Beyond the Job Title \nWhat does leadership really look like when execution is no longer enough?\nMany professionals reach a point where they are trusted\, relied upon\, and technically strong\, yet still feel uncertain about how decisions are made\, how influence is exercised\, and what truly signals readiness for the next level. Titles change\, responsibilities grow\, but the rules of leadership often remain unspoken.\nThat’s why leadership beyond the job title requires a different kind of awareness.\nIt is about moving from execution to judgement.\nIt is about influence without formal authority.\nIt is about presence\, clarity\, and impact in decision-making rooms. \nThis is why we are excited to welcome Jandara Smith\, as our guest speaker for this Exclusive Conversation. \nJandara Smith is an HR Business Partner who partners with senior leaders and their leadership teams to strengthen organizational effectiveness\, elevate leadership capability\, and drive people‑focused business outcomes. She is passionate about helping companies achieve their strategic ambitions by empowering leaders and teams to grow\, adapt\, and operate at the next level as the business evolves. She also cares deeply about creating inclusive environments where people feel valued and able to contribute at their best\, which I see as essential to healthy teams and sustainable business performance. \nIt is about discernment\, focus\, and learning where to place energy when the stakes rise. \nThe conversation will be guided by Steffi Dexter Miranda. \n🗓️ Date: February 18\, 2026\n🕔 Time: 17:00 – 20:00\n📍Location: Zoku Copenhagen\nkr Price: 150 kr for members\, 250 kr for non members\, 150 kr students \nEvent Agenda\n· 17:00–17:30 | Meet & Greet – Arrival\, registration\, and informal networking\n· 17:30–17:40 | Welcome by ProWoc – Introduction to ProWoc and the Exclusive Conversations format\n· 17:40–18:45 | Exclusive Conversation – Guided dialogue exploring leadership beyond execution and title\n· 18:45–19:15 | Audience Interaction & Shared Reflections – Integrated Q&A and interaction\n· 19:15–19:25 | Key Takeaways & Closing – Closing reflections and insights\n· 19:25–20:00 | Networking – Informal networking and continued conversation \nFormat Note:\nThis is an Exclusive Conversation — not a panel or keynote. The audience is an active participant\, and the focus is depth\, honesty\, and shared learning. \nClick here to register\nRegistration ends noon 18 February 2026
URL:https://prowoc.org/event/ec-leadership-beyond-the-job-title/
LOCATION:Zoku Copenhagen\, Amagerfælledvej 108\, Copenhagen\, 2300\, Denmark
CATEGORIES:Exclusive Conversations
ATTACH;FMTTYPE=image/png:https://prowoc.org/wp-content/uploads/2026/01/EC-Website-Events-1.png
END:VEVENT
BEGIN:VEVENT
DTSTART;TZID=Europe/Copenhagen:20251120T170000
DTEND;TZID=Europe/Copenhagen:20251120T200000
DTSTAMP:20260424T002645
CREATED:20251004T165711Z
LAST-MODIFIED:20251104T085618Z
UID:26625-1763658000-1763668800@prowoc.org
SUMMARY:Exclusive Conversation with Samantha Adeluwoye
DESCRIPTION:Leading with Fuel\, Not Fire\nWhat does it take to build a career that lasts? For many early- and mid-career professionals\, the pressure is constant: move faster\, reach the next title\, achieve more. But too much focus on short-term wins can leave us depleted — and unprepared for the challenges ahead. \nThat’s why sustainable career growth requires a different approach.\nIt is about building depth and breadth in your skills\, routines\, and mindset.\nIt is about staying energized for growth over the long term.\nAnd it is about defining success beyond quick wins. \n✨This is why we are excited to welcome Samantha Almon Adeluwoye\, Global Director of Content and Social Media at Maersk\, as our guest speaker. Samantha’s career journey reflects exactly what it means to lead with fuel\, not fire. She began behind the camera\, capturing iconic musicians\, and went on to earn a Promax Award at the BBC before moving into global leadership. At Maersk\, she has transformed the company’s digital presence to reach over six million followers\, while earning recognition as one of the industry’s most influential social media leaders. \n🏆Her path shows that lasting impact comes from building steadily over time — blending creativity with strategy\, commerce with culture\, and vision with discipline. Samantha’s story is proof that careers are sustained not by burning out\, but by cultivating the energy and perspective to grow for the long term. \n🗓️ Date: November 20th\, 2025\n🕔 Time: 17:00 – 20:00\n📍Location: Villa Copenhagen \nPrice: 150 kr for members\, 250 kr for non members\, 200 kr BPoC members\, 100 kr Hybrid \nEvent Agenda\n17:00–17:30: Meet and Greet\n17:30–17:45: Welcome by ProWoC\n17:45–18:30: Interview Segment with Samantha Almon Adeluwoye\n18:30–19:00: Q&A and Closing\n19:00–20:00: Networking \nFollow this link to register. \n\nEvent Policies\nPhotography Policy\nBy registering for this event\, you acknowledge that you may be photographed\, videotaped\, and/or audio-taped during the meeting and hereby give permission for your image\, voice\, or survey comments to be used in education\, training\, promotion\, and/or trade and communications media by ProWoc in any and all media throughout the world\, without restriction as to frequency or duration of usage. If you do not want your image to be used the please fill out this for: Image Consent form 
URL:https://prowoc.org/event/ec-lead-fuel-not-fire/
LOCATION:Villa copenhagen Centralpostbygningen\, Tietgensgade 35-39\, Copenhagen\, 1704\, Denmark
CATEGORIES:Exclusive Conversations
ATTACH;FMTTYPE=image/png:https://prowoc.org/wp-content/uploads/2025/10/EC-Nov-20-2025-with-Samantha-Almon-Adeluwoye-1.png
END:VEVENT
BEGIN:VEVENT
DTSTART;TZID=Europe/Copenhagen:20250915T170000
DTEND;TZID=Europe/Copenhagen:20250915T200000
DTSTAMP:20260424T002645
CREATED:20250816T153457Z
LAST-MODIFIED:20250816T155052Z
UID:26157-1757955600-1757966400@prowoc.org
SUMMARY:Pull Up a Chair\, Let’s Talk: Lead Like You Belong There
DESCRIPTION:An Exclusive Conversation with Pamela Wilson\, Vice President of Global Sales Operations\, Milestone Systems \nSome leaders seem to walk into any room and own it — not because of the title on their business card\, but because of the way they carry themselves\, connect with others\, and shape the conversation.\nYet even the most accomplished professionals sometimes feel that quiet\, persistent question: Do I really belong here? \nIn this Exclusive Conversation\, we’ll explore how to turn that feeling — often called imposter syndrome — into a source of power\, presence\, and influence. \nOur guest\, Pamela Wilson\, brings decades of leadership experience across global companies including Milestone Systems\, Xerox\, and HP. Known for delivering results\, building high-performing teams\, and driving both revenue and operational excellence\, Pamela has navigated the realities of leadership at the highest levels — and knows the importance of showing up with confidence – even before the title arrives. \nTogether\, we’ll talk about:\nReframing self-doubt into strength — using it as a catalyst for growth and excellence \nOwning the room before the title — cultivating presence\, trust\, and credibility at every stage of your journey \nStaying ahead of the curve — bridging knowledge gaps that keeps you relevant\, visible\, and trusted in evolving environments \nIf you’ve ever second-guessed yourself while still striving for more\, this is your space to learn\, connect\, and leave with strategies to walk into any room with confidence. \nPull up a chair. Let’s talk. \n\nAbout Pamela Wilson\nWith a stellar career spanning over two decades in the corporate world\, Pamela Wilson has established herself as a distinguished leader in the field of sales operations. Currently serving as the Vice President of Global Sales Operations\, she plays a pivotal role in driving strategic initiatives and optimizing sales enablement for Milestone Systems A/S. Prior to her tenure at Milestone\, she spent an impressive 14 years at Xerox Corporation\, where she honed her expertise in sales operations and demonstrated a relentless commitment to excellence. In each of her roles\, she has earned herself a reputation as a trusted advisor and results-driven professional. Pamela holds a Bachelor of Science degree in Computer Science that laid the technical foundation for her career in the technology sector. She then honed those skills with an eye on leadership\, pursuing an MBA in Finance and Strategy that equipped her with the analytical skills and business acumen that have set her apart from her peers ever since. Pamela has demonstrated her commitment to learning and growing\, both personally and professionally\, most recently by taking on global responsibilities 5\,000 miles from home in Denmark. Beyond her professional endeavors\, Pamela is married to an amazing man who has supported their family’s move across the pond. Her balance comes from her two high energy children (9 and 13) who remind her to appreciate every day she is blessed to see. \nLinkedIn \n\n15 September 2025 | 17:00–20:00 (starts at 17:30)\nZoku Copenhagen\, Amagerfælledvej 108\, 2300 Copenhagen\nProWoc Members: 150 DKK | Non-Members: 250 DKK\nPlease click here to sign up/register\nLast day to signup/register: Midnight on 13 September 2025\n 
URL:https://prowoc.org/event/lead-like-you-belong-there/
LOCATION:Zoku\, Amagerfalledvej 108\, Copenhagen\, 2300
CATEGORIES:Exclusive Conversations,Impact,Inclusion,Influence,Inspiring
ATTACH;FMTTYPE=image/png:https://prowoc.org/wp-content/uploads/2025/08/EC-with-PWilson-Sept-2025.png
END:VEVENT
BEGIN:VEVENT
DTSTART;TZID=Europe/Copenhagen:20250526T170000
DTEND;TZID=Europe/Copenhagen:20250526T200000
DTSTAMP:20260424T002645
CREATED:20250507T081635Z
LAST-MODIFIED:20250526T100957Z
UID:25735-1748278800-1748289600@prowoc.org
SUMMARY:🌿 Rooted and Rising: Exclusive Conversations with Yvette Miata Petersen
DESCRIPTION:🌿 Rooted and Rising: Exclusive Conversations with Yvette Miata Petersen \nWhat does it take to rise in your career while staying true to your core values? \nJoin us for an unforgettable evening with Yvette Miata Petersen\, Corporate Vice President at Novo Nordisk\, for an exclusive conversation on leadership\, resilience\, and authenticity. \nIn today’s fast-paced world\, success is often measured by titles and accolades. But true leadership goes deeper — it’s about rising with integrity\, staying grounded in your values\, and leading with purpose. Rooted and Rising explores the delicate balance between ambition and authenticity\, and how to build a career without compromising who you are. \nYvette has navigated ambition with both grace and grit — and her journey is a reminder that success doesn’t have to come at the cost of your values. This edition of Exclusive Conversation will offer space for reflection\, connection\, and practical takeaways to support your own leadership path. \n💬 What to expect:\n✨ Leading with authenticity in high-stakes environments\n✨ Balancing ambition with personal values\n✨ Overcoming obstacles while staying true to your identity \n> Online registration has ended. You may register at the event.\n ProWoc members: 150kr | Non members: 250kr\n Mobile pay:  247033 \n\nAbout Yvette Miata Petersen\, PhD\, PMP\nYvette Miata Petersen\, PhD\, PMP\, is Corporate Vice President\, Head of Strategy\, Portfolio\, Operations\, and Communications in Research and Early Development at Novo Nordisk\, Denmark. With over 22 years of global healthcare experience\, she has held senior scientific and operational roles and is known for translating business goals into measurable outcomes. She founded the “Ladies of African Descent” (LOAD) employee group and launched the Industry Initiation Program for Black Medics at the University of Cambridge. \nYvette lives near Copenhagen with her family and is passionate about fitness. \n📅 Monday\, 26 May 2025\n🕔 17:00 – 20:00\nkr ProWoc members: 150kr | Non members: 250kr\n📍 Østerbrohuset\, Århusgade 103\, 2100 København\n🚆🚇Public transportation: Østerbrohuset is in walking distance from both Nordhavn metro and station\n🚗 Local parking spaces in the area. \nDon’t miss out on this opportunity to gain wisdom from a true leader who knows what it takes to rise with purpose and authenticity. \n\nPlease read: Event Tickets Information refund policy
URL:https://prowoc.org/event/ec-may26-yvettepetersen/
LOCATION:Østerbrohuset\, Århusgade 103\, Copenhagen\, 2100\, Denmark
CATEGORIES:Exclusive Conversations,Impact,Inclusion,Influence,Inspiring
ATTACH;FMTTYPE=image/png:https://prowoc.org/wp-content/uploads/2025/05/Web-Exclusive-Conversations-with-Yvette-Petersen-May-26-1.png
END:VEVENT
BEGIN:VEVENT
DTSTART;TZID=Europe/Copenhagen:20250218T170000
DTEND;TZID=Europe/Copenhagen:20250218T200000
DTSTAMP:20260424T002645
CREATED:20250110T114008Z
LAST-MODIFIED:20250110T115256Z
UID:24751-1739898000-1739908800@prowoc.org
SUMMARY:Exclusive Conversation with Pernille Lotus
DESCRIPTION:Exclusive Conversation with Pernille Lotus: Career & Life Reinvention Through the Power of Breath work\nBeat the winter blues with an inspiring evening featuring the powerhouse Pernille Lotus\, as she shares her remarkable journey of transformation\, resilience\, and rediscovery. \nIf 2025 has you thinking about reinvention\, self-discovery\, or embracing new opportunities\, this is the event you don’t want to miss! Whether you’re navigating career transitions\, managing high-pressure roles\, or seeking inspiration to embrace your next chapter with confidence\, this conversation will leave you energized and equipped for the road ahead. \nDrawing on her personal journey from burnout to purposeful living\, Pernille will share her story of self-discovery\, leading to a mindset shift that helped her reclaim balance and fulfillment. Her story is a testament to the power of bold decisions and intentional self-care in building a life that aligns with your values and aspirations. Her mission is simple: to inspire resilience and help others find their breath amidst life’s chaos. \nWhat You’ll Experience:\nInsights from Pernille’s bold career transitions and personal reinvention.\nTools to manage stress\, boost clarity\, and create emotional balance through Breathwork.\nPractical strategies for intentional self-care and resilience in your career and life.\nA 15-minute interactive Breathwork session to recharge and align with your 2025 goals.\nNetworking with like-minded professionals ready to make this year their best yet. \n📅 Event Details:\nDate: Tuesday\, 18 February 2025\nTime: 17:00 – 20:00\nLocation: Villa Copenhagen\nCost: Free for ProWoc members | Non members – DKK250 \nClick the link to register today!  \n\n✨ About Pernille Lotus:\nA former CEO who transformed her life after experiencing burnout\, Pernille now dedicates her work to helping others live with purpose and balance. Her approach combines real-life experience with practical tools to help you navigate life’s chaos with resilience and confidence. Pernille founded Beyond Breath\, a platform focused on mental health and well-being\, where she empowers clients to find their balance again. Through transformative practices like Breathwork\, Meditation\, and Saunagus\, Pernille guides individuals toward a more balanced\, mindful\, and fulfilling life.
URL:https://prowoc.org/event/ec-with-pernille-lotus/
LOCATION:2300
CATEGORIES:Exclusive Conversations
ATTACH;FMTTYPE=image/png:https://prowoc.org/wp-content/uploads/2025/01/Exclusive-Conversations-Feb-events-image.png
END:VEVENT
BEGIN:VEVENT
DTSTART;TZID=Europe/Copenhagen:20241126T170000
DTEND;TZID=Europe/Copenhagen:20241126T200000
DTSTAMP:20260424T002645
CREATED:20241014T155745Z
LAST-MODIFIED:20241014T160550Z
UID:24040-1732640400-1732651200@prowoc.org
SUMMARY:Resilient Leader: Shaping Your Mindset for 2025
DESCRIPTION:What mindset shifts do you need to make to pivot your career in 2025?\nProWoc invites you to an inspiring in-person event at the prestigious Villa Copenhagen for an Exclusive Conversation with Ade Adeluwoye\, Global Head of Customer Insight at A.P. Moller – Maersk. Ade brings extensive experience in Strategy\, Branding\, Digital Media\, Marketing\, and Business Development\, and will share the winning strategies that helped him pivot his own career. \nGain valuable insights from a truly remarkable leader on fostering a resilient mindset\, embracing change\, and confidently managing career transitions in the upcoming year. Whether you aim to advance in your current field or shift to new opportunities\, this discussion will equip you with actionable strategies to unleash your potential. \nWhy You Should Attend:\n● Learn Proven Strategies: Discover actionable approaches to building resilience and adapting your mindset to thrive in an ever-changing career landscape.\n● Expert Insights: Hear firsthand from Ade\, a seasoned leader in global business development and strategy\, on how to tackle the challenges of 2025.\n● Use storytelling to sharpen your communication: revitalize your personal brand\, and ignite new paths for your career journey.\n● Exclusive Networking: Connect with mid- to senior-level professionals from various industries and expand your professional network in a meaningful way. \nWho Should Attend:\n● Ambitious Professionals of All Levels: Whether you’re starting out\, mid-career\, or a senior leader\, this event offers valuable insights and strategies for every stage of your professional journey.\n● Career Pivot Seekers: If you’re considering a career change or want to reinvent your professional path\, you’ll gain invaluable insights to guide your transition.\nAbout the Speaker: \nAde Adeluwoye is a seasoned marketing and customer strategy executive with over 20 years of experience driving the success of global brands such as Universal Music\, Coca-Cola\, Reuters\, and the BBC. Currently the Global Head of Customer Insight at Maersk\, Ade leads customer strategy and data-driven insights\, aligning customer experience with impactful business outcomes. \nAde’s career began at ITV and progressed through senior roles at Sony\, Universal Music\, and the BBC\, where he contributed to high-profile projects\, including the London 2012 Olympics. A BBC Clore Fellow\, he also serves on the board of PWOC\, shaping strategic direction and supporting emerging talent.\nOriginally from the UK\, he is now based in Copenhagen. Known for his innovation\, resilience\, and excellence\, Ade’s leadership inspires others to elevate their stories\, prioritize customer-centricity\, and unlock new opportunities. \n🗓 Date: Tuesday\, 26 November 2024\n🕔 Time: 17h00 – 20h00\n📍 Location: Villa Copenhagen\, Tietgensgade 35-39\, 1704 København \nDon’t miss out on this unique opportunity to connect with like-minded professionals and gain actionable tools for your career journey. \nRegister today and be part of this transformative experience! \nLast day to register/signup\n24 November 2024 – midnight
URL:https://prowoc.org/event/resilient-leader-shaping-your-mindset-for-2025/
LOCATION:Villa copenhagen Centralpostbygningen\, Tietgensgade 35-39\, Copenhagen\, 1704\, Denmark
CATEGORIES:Career Development,Exclusive Conversations,Impact
ATTACH;FMTTYPE=image/png:https://prowoc.org/wp-content/uploads/2024/10/EC-with-Ade-Adeluwoye-Website.png
END:VEVENT
BEGIN:VEVENT
DTSTART;TZID=Europe/Copenhagen:20240920T170000
DTEND;TZID=Europe/Copenhagen:20240920T200000
DTSTAMP:20260424T002645
CREATED:20240901T103727Z
LAST-MODIFIED:20240918T101247Z
UID:23617-1726851600-1726862400@prowoc.org
SUMMARY:Exclusive Conversations with Mette Kaagaard
DESCRIPTION:Redefining Your Leadership Style in the Tech Era – Exclusive Conversations with Mette Kaagaard\nCEOof Microsoft Denmark and Iceland (Sold out.)\nProWoc invites you to an exclusive conversation with Mette Kaagaard\, CEO of Microsoft Denmark and Iceland. As a leader and pioneer within the tech industry\, Mette is a visible driving force for change towards a more equitable world. Her career spans over two decades with key roles at Deloitte\, KMD\, Schultz Holding\, and most recently\, Microsoft. In her role as CEO\, Mette has overall responsibility for leading Microsoft’s commercial activities in Denmark. She is also an active voice in the public debate\, focusing on digitalization\, cybersecurity\, and a champion of diversity. All this\, while keeping the checks and balances with the joys of family life. \nThis session is an opportunity to inspire change. Whether you’re a current leader\, aspiring to leadership\, or passionate about the future of work\, Mette’s insights will empower you to take meaningful steps in your career and advocate for necessary changes within your organisation. \nIn this Exclusive conversation\, we will explore the following themes:\nWomen in Technology and Leadership: Despite progress\, women remain underrepresented in tech and leadership roles. Mette will share reflections on how to increase representation\, foster inclusive workplace cultures\, and ensure equal opportunities for women to lead and innovate.We will also explore what is needed to elevate your leadership skills when aspiring for senior leadership roles. \nThe Future of Work: How AI is Shaping Careers: As AI transforms industries\, so will careers be impacted\, making it ‘business unusual’. We look forward to picking Mette’s brain on the skills needed for the future and how you can leverage AI to drive innovation in your career path. \nJoin us as we break down barriers\, redefine leadership\, and explore the future of work in a rapidly evolving world. Don’t miss this unique opportunity to hear from one of the industry’s most influential voices! \nProgram Outline:\n17:00-17:30: Meet and Greet\n17:30-17:45: Welcome by ProWoC\n17:45-18:30: Main Segment with Mette Kaagaard\n18:30-19:00: Q&A and Closing\n19:00-20:00: Light Refreshments and Networking \nEvent Details:\nCost: Free for ProWoc members | Non members – DKK250\n📅 Date: 20/09/24 🕒 Time: 17.00-20.00 📍 Venue: Villa Copenhagen\nLimited seats available. SOLD OUT. \n📣Registration ends midnight: Wednesday\, Sept. 18\, 2024 \nSponsored by Villa Copenhagen and Industriens Fond\n#WomenInLeadership #FutureOfWork #BreakingTheGlassCeiling #AIInWorkplace #WomenInTech #InclusiveLeadership #WorkLifeBalance #TechnologyLeadership
URL:https://prowoc.org/event/sept20_ec_with_mette_kaagaard/
LOCATION:Villa copenhagen Centralpostbygningen\, Tietgensgade 35-39\, Copenhagen\, 1704\, Denmark
CATEGORIES:Exclusive Conversations,Influence,Inspiring,Leadership,Networking,Personal Purpose
ATTACH;FMTTYPE=image/png:https://prowoc.org/wp-content/uploads/2024/09/Exclusive-Conversations-with-Mette-Kaargaard-Sept-202024-Presentation.png
END:VEVENT
BEGIN:VEVENT
DTSTART;TZID=Europe/Copenhagen:20240625T170000
DTEND;TZID=Europe/Copenhagen:20240625T200000
DTSTAMP:20260424T002645
CREATED:20240612T153426Z
LAST-MODIFIED:20240620T104055Z
UID:23121-1719334800-1719345600@prowoc.org
SUMMARY:Exclusive Conversations with Ambre James-Brown - Hybrid
DESCRIPTION:Join us for an Exclusive Conversation with Ambre James-Brown\, Vice President of Global Media & Stakeholder Communication at Novo Nordisk. Recently featured in Berlingske as an influential corporate leader in Denmark\, Ambre will provide insights on how you as a professional can enhance your branding and communication etiquette. This session is perfect for those who want to revamp their personal brand and increase their executive presence in and outside of the workplace. \nEvent Details:\n📅 Date: 25/06/24 🕒 Time: 17.00-20.00 📍 Venue: Villa Copenhagen \nRegister Now to secure your spot as tickets for this inspiring session are limited. Registration closes at midnight 24/06/2024\nIn-person:\nProWoc member DKK150\nNon member DKK250 \nVirtual:\nProWoc member DKK100\nNon member DKK175 \n#ExclusiveConversations #Branding #Communication #AmbreJamesBrown #Event \n\nAbout Ambre James-Brown:\nAmbre James-Brown is an award-winning communication executive with more than 20 years of experience\, and currently holds the position of Vice President of Global Media & Stakeholder Communication at Novo Nordisk. Originally from the United States of America\, but currently based in Copenhagen\, Denmark\, she oversees a team dedicated to international media relations\, CEO communications\, issues management\, and crisis communications. Under her leadership\, global media coverage for the company saw a remarkable 276% increase in 2023. \nAmbre joined Novo Nordisk in the U.S. in 2008 and transitioned to a global role in 2011\, working between Copenhagen and the U.S. Her extensive experience includes a short-term assignment in Tokyo in 2019\, where she successfully launched two diabetes brands. Recognized as a “Rising Star” by the Healthcare Businesswomen’s Association and named “Working Mother of the Year” by Novo Nordisk\, Ambre is also a Harvard Kennedy School Executive Education program graduate and holds a Diversity & Inclusion certificate from Cornell University. \nA co-founder of Black Employees @Novo Nordisk and a board member of the Boys & Girls Clubs of Mercer County\, Ambre has been celebrated for her authentic and impactful campaigns. Notably\, she led the award-winning Get Real About Diabetes campaign with “black-ish” star Anthony Anderson.\nDon’t miss this opportunity to learn from Ambre James-Brown’s wealth of experience and elevate your personal branding and communication. \nRegister Now to secure your spot as tickets for this inspiring session are limited.
URL:https://prowoc.org/event/exclusive-conversations-with-ambre-james-brown/
LOCATION:Villa copenhagen Centralpostbygningen\, Tietgensgade 35-39\, Copenhagen\, 1704\, Denmark
CATEGORIES:Authentic self,Branding,Exclusive Conversations,Impact,Influence,Inspiring,Personal development,Personal Purpose,Professional development,Success,Value
ATTACH;FMTTYPE=image/png:https://prowoc.org/wp-content/uploads/2024/06/Exclusive-Conversations-with-Ambre-James-Brown-on-Branding-and-Communication-Presentation.png
END:VEVENT
BEGIN:VEVENT
DTSTART;TZID=Europe/Copenhagen:20240222T170000
DTEND;TZID=Europe/Copenhagen:20240222T200000
DTSTAMP:20260424T002645
CREATED:20240131T212102Z
LAST-MODIFIED:20240206T104020Z
UID:22053-1708621200-1708632000@prowoc.org
SUMMARY:Exclusive Conversation with Dr. Elisabeth Iyore
DESCRIPTION:Exclusive Conversation with Dr. Elisabeth Iyore\nInvesting & Tax in the Danish context\nWe welcome you all to our first in-person Exclusive Conversation event of 2024 with Dr. Elisabeth Iyore on February 22nd from 17:00-20:00\nCome join us as we get advice on investing and navigating the tax landscape in Denmark. Dr. Iyore\, a pediatric doctor\, is passionate about investing and ensuring that women of color educate themselves on how they can invest while taking into consideration tax regulations in Denmark. \nThe event is in-person and 150DKK for all ProWoc Members.  Non-Members is 250 DKK.\nThere will be drinks and snacks.\nThe event will be held in Hotel Villa Copenhagen \nRegister no later than February 19\, 2024. \nSecure your spot now for an exciting and fun in-person networking event\, the first of the year! \nCalendar invites will be shared with registered participants on February 20\, 2024. \nWe hope to see you there!
URL:https://prowoc.org/event/ec-feb2024-danishtaxevent/
LOCATION:Villa copenhagen Centralpostbygningen\, Tietgensgade 35-39\, Copenhagen\, 1704\, Denmark
CATEGORIES:Career Development,Exclusive Conversations,Inclusion,Leadership
ATTACH;FMTTYPE=image/png:https://prowoc.org/wp-content/uploads/2024/01/Update-Exclusive-Conversations-Feb-2024-Presentation.png
END:VEVENT
END:VCALENDAR