BEGIN:VCALENDAR
VERSION:2.0
PRODID:-//ProWoc⎮Professional Women of Colour Network⎮Denmark - ECPv6.15.20//NONSGML v1.0//EN
CALSCALE:GREGORIAN
METHOD:PUBLISH
X-ORIGINAL-URL:https://prowoc.org
X-WR-CALDESC:Events for ProWoc⎮Professional Women of Colour Network⎮Denmark
REFRESH-INTERVAL;VALUE=DURATION:PT1H
X-Robots-Tag:noindex
X-PUBLISHED-TTL:PT1H
BEGIN:VTIMEZONE
TZID:Europe/Copenhagen
BEGIN:DAYLIGHT
TZOFFSETFROM:+0100
TZOFFSETTO:+0200
TZNAME:CEST
DTSTART:20240331T010000
END:DAYLIGHT
BEGIN:STANDARD
TZOFFSETFROM:+0200
TZOFFSETTO:+0100
TZNAME:CET
DTSTART:20241027T010000
END:STANDARD
BEGIN:DAYLIGHT
TZOFFSETFROM:+0100
TZOFFSETTO:+0200
TZNAME:CEST
DTSTART:20250330T010000
END:DAYLIGHT
BEGIN:STANDARD
TZOFFSETFROM:+0200
TZOFFSETTO:+0100
TZNAME:CET
DTSTART:20251026T010000
END:STANDARD
BEGIN:DAYLIGHT
TZOFFSETFROM:+0100
TZOFFSETTO:+0200
TZNAME:CEST
DTSTART:20260329T010000
END:DAYLIGHT
BEGIN:STANDARD
TZOFFSETFROM:+0200
TZOFFSETTO:+0100
TZNAME:CET
DTSTART:20261025T010000
END:STANDARD
END:VTIMEZONE
BEGIN:VEVENT
DTSTART;TZID=Europe/Copenhagen:20251011T130000
DTEND;TZID=Europe/Copenhagen:20251011T150000
DTSTAMP:20260424T183102
CREATED:20250911T105723Z
LAST-MODIFIED:20251010T142701Z
UID:26408-1760187600-1760194800@prowoc.org
SUMMARY:🚗 🚉 Join us in connecting with our new Chapter members in Esbjerg!
DESCRIPTION:Calling all professional women of colour in Southern Denmark (and allies!)\nProWoc is bringing its first-ever community event to Esbjerg! Dive into a gathering designed to ignite connection and collective growth.\nWhether you’re an emerging leader\, seasoned professional\, entrepreneur\, or simply passionate about community and connection—this is your moment. All women are welcome to join.\n\nWhat to Expect: \n\n\n\nOur Founders Share the ProWoc Story: Our founders\, Selim Ablo-Nielsen and Dr. Phaedria Marie St.-Hilaire\, will share the origins\, vision\, and impact of ProWoc in Denmark.\nCommunity Listening Session: What’s needed in Southern Denmark? We want to hear directly from YOU—your ideas\, ambitions\, and what you’d like from a local ProWoc chapter.\nMembership Drive & Launchpad: Ready to become part of something bigger? Learn how to join ProWoc and help lay the foundation for our new chapter in Southern Denmark.\n\n\n\nWhy Attend? \n\nExperience the warmth and storytelling that characterize ProWoc events\, such as ProConnect & HerStory\, where community and narrative-building take center stage.\nHelp shape how the ProWoc chapter in Southern Denmark comes to life.\nConnect with like-minded professionals and join a growing network dedicated to amplifying the voices of women of colour in Denmark.\nSpecial membership packages available for new joiners.\n\nDetails:\nDate & Time: Saturday 11 October 2025\, 13:00-15:00\nLocation: Esbjerg Bibliotek\nNørregade 19\, 6700 Esbjerg\nRoom: Storm (1.sal) \nPricing: Free for all attendees\nExtras: Light refreshments and networking opportunities included. \n‼️Registration closes Saturday\, 12 noon
URL:https://prowoc.org/event/proconnect-esbjerg-edition/
CATEGORIES:Community,Esbjerg - New ProWoc Chapter
ATTACH;FMTTYPE=image/png:https://prowoc.org/wp-content/uploads/2025/09/Esbjerg-event-presentation-1.png
END:VEVENT
END:VCALENDAR