BEGIN:VCALENDAR
VERSION:2.0
PRODID:-//ProWoc⎮Professional Women of Colour Network⎮Denmark - ECPv6.15.20//NONSGML v1.0//EN
CALSCALE:GREGORIAN
METHOD:PUBLISH
X-ORIGINAL-URL:https://prowoc.org
X-WR-CALDESC:Events for ProWoc⎮Professional Women of Colour Network⎮Denmark
REFRESH-INTERVAL;VALUE=DURATION:PT1H
X-Robots-Tag:noindex
X-PUBLISHED-TTL:PT1H
BEGIN:VTIMEZONE
TZID:Europe/Copenhagen
BEGIN:DAYLIGHT
TZOFFSETFROM:+0100
TZOFFSETTO:+0200
TZNAME:CEST
DTSTART:20240331T010000
END:DAYLIGHT
BEGIN:STANDARD
TZOFFSETFROM:+0200
TZOFFSETTO:+0100
TZNAME:CET
DTSTART:20241027T010000
END:STANDARD
BEGIN:DAYLIGHT
TZOFFSETFROM:+0100
TZOFFSETTO:+0200
TZNAME:CEST
DTSTART:20250330T010000
END:DAYLIGHT
BEGIN:STANDARD
TZOFFSETFROM:+0200
TZOFFSETTO:+0100
TZNAME:CET
DTSTART:20251026T010000
END:STANDARD
BEGIN:DAYLIGHT
TZOFFSETFROM:+0100
TZOFFSETTO:+0200
TZNAME:CEST
DTSTART:20260329T010000
END:DAYLIGHT
BEGIN:STANDARD
TZOFFSETFROM:+0200
TZOFFSETTO:+0100
TZNAME:CET
DTSTART:20261025T010000
END:STANDARD
END:VTIMEZONE
BEGIN:VEVENT
DTSTART;TZID=Europe/Copenhagen:20250827T080000
DTEND;TZID=Europe/Copenhagen:20250828T180000
DTSTAMP:20260425T042256
CREATED:20250527T085600Z
LAST-MODIFIED:20250527T090057Z
UID:25554-1756281600-1756404000@prowoc.org
SUMMARY:You’ve been invited to TechBBQ 2025
DESCRIPTION:📣 We’re thrilled to announce that ProWoc is officially partnering with @TechBBQ for a second year in a row! TechBBQ is the powerhouse behind Scandinavia’s largest startup\, innovation\, and tech summit. Attending this event brings deeper insights into the Nordic tech scene and startup ecosystems\, fostering learning\, growth\, and innovation. \nAs a community partner\, we’re excited to offer our members a special discount of 25% to attend this 2 day event here in Copenhagen! Discount code is: 25ProWocnetwork25 \n🖋️ ‼️ Please register using this link https://ti.to/techbbq/2025/discount/25ProWocnetwork25 \n📅 Join us at TechBBQ on August 27 – 28th for this event\, where tech enthusiasts\, entrepreneurs and investors come together for two days of inspiration\, networking\, and growth. 🌟 \nSee you there! 🌐\n#TechBBQ2025 #TechBBQ\n📖 Learn more about TechBBQ and secure your spot by visiting their website: TechBBQ 2025 \n\nTECHBBQ VENUE LOCATION: Bella Center Copenhagen\nTime: \nWednesday\, Aug 27 (Day 1) – 9:00 – 18:00\nThursday\, Aug 28 (Day 2) – 9:00 – 18:00\nVenue: Bella Center Copenhagen\nAddress: Center Boulevard 5\, 2300 Copenhagen S\, Denmark \n!!!! SAVE YOUR ENTRY BADGE : If you are attending both days\, please save your wristband for Day 2. If you lose your wristband the replacement cost could be the price of a 1 day ticket.
URL:https://prowoc.org/event/youve-been-invited-to-techbbq-2025/
LOCATION:Bella Center Copenhagen\, Center Boulevard 5\, Copenhagen\, 2300\, Denmark
CATEGORIES:Career Development,Community,Networking,Personal development
ATTACH;FMTTYPE=image/png:https://prowoc.org/wp-content/uploads/2025/04/TechBBQ-SoMe-post-2025-for-website-Presentation.png
END:VEVENT
BEGIN:VEVENT
DTSTART;TZID=Europe/Copenhagen:20250628T123000
DTEND;TZID=Europe/Copenhagen:20250628T143000
DTSTAMP:20260425T042256
CREATED:20250413T120259Z
LAST-MODIFIED:20250627T122536Z
UID:25580-1751113800-1751121000@prowoc.org
SUMMARY:🎉 ProWoc's Annual General Meeting (AGM)\, 28 June 2025
DESCRIPTION:Dear All\,\n📣 You are cordially invited to the Prowoc Annual General meeting and board elections on Saturday June 28\, 2025. \n🗓️ Annual General meeting Saturday 28 June from 12:30 – 14:30 | In-Person and online  | Location: Kulturhuset Islands Brygge\nIslands Brygge\, 18\, 2300 København \nAGM Agenda \n\nThe Board of Directors/President report\nPresentation and approval of financial statements and budget\nDiscussion of ideas and proposals received\nElection of board members\nProWoc Southern Denmark Chapter Interest\n\nNomination of Board members: Nomination are open from June 01 to June 21 \,2025 \nProWoc Elections:\nDo you or someone you know aspire to take on a critical organizational leadership role within the ProWoc community? The ProWoc board seeks nominations for candidates for 2 board roles: \n\nPresident\nHead of Career and Personal Development\n\nA brief description of each role is included in the nomination form (click here) to help guide your nomination. \n🗳️ Please send your nominations no later than – 12PM CET on June 21\, 2025.\n*If you wish to submit more than one nomination kindly submit a form for each one. \nWHO CAN BE NOMINATED? \n\nAny paid ProWoc member who is part of the network during the year that nominations are held is eligible to stand\nYou can nominate yourself for any of these as well as any other ProWoc members or qualified individuals* within your network\n*Qualified individuals who are not yet ProWoc members must agree to subscribe to ProWoc annual membership if they are elected.\n\nHOW DO I SUBMIT A NOMINATION? \n\nTo Submit a nomination\, please complete the form accessible by clicking here.\nThe ProWoc Board will review all nominations and share a list of nominated candidates with ProWoc members via email by June 21\, 2025. Voting will take place in real time during the annual general meeting on Saturday June 28 from 12:30  – 14:30.\n\n💡 For questions or clarification please contact the ProWoc Board at prowocboard@prowoc.org. \nThank you for your participation in this important process which is an essential part of our operation as a non-profit organization with a mission to build a strong network of Professional women of Colour in Denmark. \n\n📣 ProWoc Southern Denmark Chapter Interest\nIn alignment with our long term strategic vision and you requests\, we are exploring the formation of a ProWoc Chapter to better serve the needs of Women of Colour residing outside of the Copenhagen area. We had an initial interest meeting on March 1st 2025 and already several women have committed to working towards getting a chapter off the ground. We would like to have as many women as possible participate and therefore we would deeply appreciate a few minutes of your time (< 5 min) to fill out this survey. \n🗳️ Click here and share your thoughts.
URL:https://prowoc.org/event/agm-june-2025/
LOCATION:Island Brygge\, Islands Brygge 18\, Copenhagen\, 2300\, Denmark
CATEGORIES:AGM,Community,Diversity
ATTACH;FMTTYPE=image/png:https://prowoc.org/wp-content/uploads/2025/04/AGMv2-1.png
END:VEVENT
BEGIN:VEVENT
DTSTART;TZID=Europe/Copenhagen:20250523T180000
DTEND;TZID=Europe/Copenhagen:20250523T200000
DTSTAMP:20260425T042256
CREATED:20250413T125947Z
LAST-MODIFIED:20250508T091011Z
UID:25620-1748023200-1748030400@prowoc.org
SUMMARY:ProMeet: Wine\, Stories and Good Company!
DESCRIPTION:Join us for an unforgettable evening of wine\, storytelling\, and leadership!\n🎉 This is not just your typical wine tasting\, but it’s a transformative experience that blends leadership insight with curated wines and personal reflection. \n🗓️ Date: Friday 23\, May 2025\n🕕 Time: 18:00–20:00\n📍 Location: Frederiksberg Rådhuskælder\n🎟️ Tickets: 375 kr (includes wine\, light snacks & water) | 250 kr for non alcoholic options \n💫 About the Experience: Led by\nJeanette Fabros Knudsen\, a storyteller and leadership communication expert\, this event features five unique wines\, each symbolizing a key leadership principle. While enjoying the wine\, we will explore themes like identity\, strategy\, resilience\, and adaptability through guided tastings\, stories\, and interactive discussions. \n💫 Expect:\n🌟 Light snacks & drinks\n🌟 A multi-sensory learning journey\n🌟Empowering lessons in leadership & inclusion\n🌟 A space for networking and reflection\n✅ Last chance to register: 20 May 2025 Limited seating. Register today!
URL:https://prowoc.org/event/promeet-wine-storytelling/
CATEGORIES:Activities,Authentic self,Community,Impact,Networking,ProMeet
ATTACH;FMTTYPE=image/png:https://prowoc.org/wp-content/uploads/2025/04/New-ProMeet-23-May-2025.png
END:VEVENT
END:VCALENDAR