BEGIN:VCALENDAR
VERSION:2.0
PRODID:-//ProWoc⎮Professional Women of Colour Network⎮Denmark - ECPv6.15.20//NONSGML v1.0//EN
CALSCALE:GREGORIAN
METHOD:PUBLISH
X-WR-CALNAME:ProWoc⎮Professional Women of Colour Network⎮Denmark
X-ORIGINAL-URL:https://prowoc.org
X-WR-CALDESC:Events for ProWoc⎮Professional Women of Colour Network⎮Denmark
REFRESH-INTERVAL;VALUE=DURATION:PT1H
X-Robots-Tag:noindex
X-PUBLISHED-TTL:PT1H
BEGIN:VTIMEZONE
TZID:Europe/Copenhagen
BEGIN:DAYLIGHT
TZOFFSETFROM:+0100
TZOFFSETTO:+0200
TZNAME:CEST
DTSTART:20190331T010000
END:DAYLIGHT
BEGIN:STANDARD
TZOFFSETFROM:+0200
TZOFFSETTO:+0100
TZNAME:CET
DTSTART:20191027T010000
END:STANDARD
BEGIN:DAYLIGHT
TZOFFSETFROM:+0100
TZOFFSETTO:+0200
TZNAME:CEST
DTSTART:20200329T010000
END:DAYLIGHT
BEGIN:STANDARD
TZOFFSETFROM:+0200
TZOFFSETTO:+0100
TZNAME:CET
DTSTART:20201025T010000
END:STANDARD
BEGIN:DAYLIGHT
TZOFFSETFROM:+0100
TZOFFSETTO:+0200
TZNAME:CEST
DTSTART:20210328T010000
END:DAYLIGHT
BEGIN:STANDARD
TZOFFSETFROM:+0200
TZOFFSETTO:+0100
TZNAME:CET
DTSTART:20211031T010000
END:STANDARD
END:VTIMEZONE
BEGIN:VEVENT
DTSTART;TZID=Europe/Copenhagen:20200924T193000
DTEND;TZID=Europe/Copenhagen:20200924T210000
DTSTAMP:20260425T155616
CREATED:20200916T070358Z
LAST-MODIFIED:20200916T120508Z
UID:2449-1600975800-1600981200@prowoc.org
SUMMARY:ProWoc Exclusive Conversations with Lise Mygind Mühlhausen
DESCRIPTION:ProWoc invites you to a very special evening as part of a new series of interactions – ProWoc Exclusive Conversations. Our first guest is Lise Mygind Mühlhausen\, an expert in the field of media and branding. She will talk to us about personal branding for professional women in Denmark.  \n\n\n\nCost of attendance:  \n\n\n\nGold and Silver Members: 50 DKK \n\n\n\nBronze Members: 125 DKK \n\n\n\nNon-Members: 150 DKK \n\n\n\nNote: This event is restricted to 15 people\, due to COVID-19 regulations.  \n\n\n\nOnce we reach the limit\, you would be put on a waiting list. ProWoc members will be prioritized. Unregistered and unconfirmed attendees will not be able to participate.  \n\n\n\nHurry and save your spot by submitting this registration form\, no later than the 20th of September. \n\n\n\nWe look forward to seeing you at the inaugural session of ProWoc Exclusive Conversations! \n\n\n\n>> Click here to register <<
URL:https://prowoc.org/event/prowoc-exclusive-conversations-with-lise-mygind-muhlhausen/
LOCATION:Hotel d’Angleterre\, Kongens Nytorv 34\, Copenhagen\, 1050\, Denmark
CATEGORIES:Branding,Events,Media,Networking,ProWoc Exclusive Conversations,Social
ATTACH;FMTTYPE=image/png:https://prowoc.org/wp-content/uploads/2020/09/ProWoc-Event-Header-.png
END:VEVENT
END:VCALENDAR