BEGIN:VCALENDAR
VERSION:2.0
PRODID:-//ProWoc⎮Professional Women of Colour Network⎮Denmark - ECPv6.15.20//NONSGML v1.0//EN
CALSCALE:GREGORIAN
METHOD:PUBLISH
X-WR-CALNAME:ProWoc⎮Professional Women of Colour Network⎮Denmark
X-ORIGINAL-URL:https://prowoc.org
X-WR-CALDESC:Events for ProWoc⎮Professional Women of Colour Network⎮Denmark
REFRESH-INTERVAL;VALUE=DURATION:PT1H
X-Robots-Tag:noindex
X-PUBLISHED-TTL:PT1H
BEGIN:VTIMEZONE
TZID:Europe/Copenhagen
BEGIN:DAYLIGHT
TZOFFSETFROM:+0100
TZOFFSETTO:+0200
TZNAME:CEST
DTSTART:20240331T010000
END:DAYLIGHT
BEGIN:STANDARD
TZOFFSETFROM:+0200
TZOFFSETTO:+0100
TZNAME:CET
DTSTART:20241027T010000
END:STANDARD
BEGIN:DAYLIGHT
TZOFFSETFROM:+0100
TZOFFSETTO:+0200
TZNAME:CEST
DTSTART:20250330T010000
END:DAYLIGHT
BEGIN:STANDARD
TZOFFSETFROM:+0200
TZOFFSETTO:+0100
TZNAME:CET
DTSTART:20251026T010000
END:STANDARD
BEGIN:DAYLIGHT
TZOFFSETFROM:+0100
TZOFFSETTO:+0200
TZNAME:CEST
DTSTART:20260329T010000
END:DAYLIGHT
BEGIN:STANDARD
TZOFFSETFROM:+0200
TZOFFSETTO:+0100
TZNAME:CET
DTSTART:20261025T010000
END:STANDARD
END:VTIMEZONE
BEGIN:VEVENT
DTSTART;TZID=Europe/Copenhagen:20251018T110000
DTEND;TZID=Europe/Copenhagen:20251018T140000
DTSTAMP:20260425T221757
CREATED:20250912T082841Z
LAST-MODIFIED:20251018T132202Z
UID:26437-1760785200-1760796000@prowoc.org
SUMMARY:ProWoc Mentoring Touchpoint Workshop
DESCRIPTION:Are you curious about improving your Mentoring Journey?\nStrengthen your mentoring journey. Expand your connections. \nThe ProWoc Mentoring Touchpoint Workshop (for Mentors and Mentees) is a 3-hour session built to inspire and connect. Through hands-on activities and networking\, mentoring pairs will find new energy and direction for their relationships\, while prospective participants will gain a clear view of the program. It’s a chance for everyone to exchange insights\, expand their networks\, and grow together. \n✨ Who should attend? \n\nMentoring participants eager to share experiences and gain inspiration\nProfessionals interested in becoming mentors or mentees\n\n📒What you’ll gain \n\nTools and strategies to build meaningful mentoring relationships\nA clear introduction to the ProWoc Mentoring Program\nSpace to ask questions and share experiences\nInteractive activities and structured networking\n\nThis touchpoint is designed to support\, inspire\, and connect professionals across the ProWoc community. \n🔗Join us to connect\, learn\, and grow within the ProWoc community! \nDetails:\n🗓️Date & Time: Saturday 18 October 2025\, 11:00-14:00\n📍Location:Mellemfolkeligt Samvirke(Globalhagen House)\, Fælledvej 12 – Entrance C – 1st Floor – Room: Equality Room\, 2200 København\nDKK Pricing: Free for all attendees\n🍓Extras: Light refreshments \n⬇️RSVP below \n\nPlease be aware that we will be taking photographs and potentially filming at this event. If this causes an issue\, please talk to someone on the planning committee or a ProWoc volunteer as soon as possible.\n➡️ProWoc Events: Image Consent Form (link) – GDPR requirement
URL:https://prowoc.org/event/touchpoint-workshop/
LOCATION:Globalhagen House\, Fælledvej 12\, København N\, 2200
CATEGORIES:Career Development,Community,Mentoring
ATTACH;FMTTYPE=image/png:https://prowoc.org/wp-content/uploads/2025/09/v2-Mentoring-Event-web-event-image.png
END:VEVENT
END:VCALENDAR