BEGIN:VCALENDAR
VERSION:2.0
PRODID:-//ProWoc⎮Professional Women of Colour Network⎮Denmark - ECPv6.15.20//NONSGML v1.0//EN
CALSCALE:GREGORIAN
METHOD:PUBLISH
X-ORIGINAL-URL:https://prowoc.org
X-WR-CALDESC:Events for ProWoc⎮Professional Women of Colour Network⎮Denmark
REFRESH-INTERVAL;VALUE=DURATION:PT1H
X-Robots-Tag:noindex
X-PUBLISHED-TTL:PT1H
BEGIN:VTIMEZONE
TZID:Europe/Copenhagen
BEGIN:DAYLIGHT
TZOFFSETFROM:+0100
TZOFFSETTO:+0200
TZNAME:CEST
DTSTART:20240331T010000
END:DAYLIGHT
BEGIN:STANDARD
TZOFFSETFROM:+0200
TZOFFSETTO:+0100
TZNAME:CET
DTSTART:20241027T010000
END:STANDARD
BEGIN:DAYLIGHT
TZOFFSETFROM:+0100
TZOFFSETTO:+0200
TZNAME:CEST
DTSTART:20250330T010000
END:DAYLIGHT
BEGIN:STANDARD
TZOFFSETFROM:+0200
TZOFFSETTO:+0100
TZNAME:CET
DTSTART:20251026T010000
END:STANDARD
BEGIN:DAYLIGHT
TZOFFSETFROM:+0100
TZOFFSETTO:+0200
TZNAME:CEST
DTSTART:20260329T010000
END:DAYLIGHT
BEGIN:STANDARD
TZOFFSETFROM:+0200
TZOFFSETTO:+0100
TZNAME:CET
DTSTART:20261025T010000
END:STANDARD
END:VTIMEZONE
BEGIN:VEVENT
DTSTART;TZID=Europe/Copenhagen:20250926T170000
DTEND;TZID=Europe/Copenhagen:20250926T200000
DTSTAMP:20260425T152055
CREATED:20250701T084416Z
LAST-MODIFIED:20250922T080801Z
UID:26057-1758906000-1758916800@prowoc.org
SUMMARY:BPoC & ProWoc at IDA: Understanding Employment Unions – Rights\, Negotiations & Protections
DESCRIPTION:Understanding Employment Unions – Rights\, Negotiations & Protections\n💡About the event \nIn Denmark\, employment unions play a key role in protecting workers’ rights\, yet many professionals—especially internationals—are unsure how to navigate them. This informative event will provide clarity on: \n\nHow unions support professionals in Denmark\nUnderstanding the difference between A-Kasse\, Lønsikring and Fagforening?\nSalary negotiation strategies and contract rights\nWork visa regulations and legal considerations\nEmployment and salary insurance options\n\nJoin us for an essential session with experts from Danish employment unions who will answer your questions and help you make informed career decisions.\nLimited spots available – sign up today!\n🗓️ Date: Friday 26th September (Last chance to register: 19th September)\n🕔 Time: 17.00 to 20.00\n📍 Location: Kalvebod Brygge 31-33\, DK-1780 Copenhagen\n🥪 Light snacks \nRSVP for this free event ended on 21 Sept. Thank you for registering. 
URL:https://prowoc.org/event/bpoc-prowoc-at-ida-employment-unions/
LOCATION:IDA\, Kalvebod Brygge 31-33\, Copenhagen\, 1780
CATEGORIES:Career,Community
ATTACH;FMTTYPE=image/png:https://prowoc.org/wp-content/uploads/2025/07/BPOC-and-ProWoc-at-IDA.png
END:VEVENT
END:VCALENDAR